BEGIN:VCALENDAR
VERSION:2.0
PRODID:-//Teatro Palacio Valdés - Avilés - ECPv6.13.2.1//NONSGML v1.0//EN
CALSCALE:GREGORIAN
METHOD:PUBLISH
X-ORIGINAL-URL:https://teatropalaciovaldes.es
X-WR-CALDESC:Eventos para Teatro Palacio Valdés - Avilés
REFRESH-INTERVAL;VALUE=DURATION:PT1H
X-Robots-Tag:noindex
X-PUBLISHED-TTL:PT1H
BEGIN:VTIMEZONE
TZID:Europe/Madrid
BEGIN:DAYLIGHT
TZOFFSETFROM:+0100
TZOFFSETTO:+0200
TZNAME:CEST
DTSTART:20240331T010000
END:DAYLIGHT
BEGIN:STANDARD
TZOFFSETFROM:+0200
TZOFFSETTO:+0100
TZNAME:CET
DTSTART:20241027T010000
END:STANDARD
END:VTIMEZONE
BEGIN:VEVENT
DTSTART;TZID=Europe/Madrid:20241107T200000
DTEND;TZID=Europe/Madrid:20241107T200000
DTSTAMP:20260425T170032
CREATED:20240902T142301Z
LAST-MODIFIED:20240923T140100Z
UID:6263-1731009600-1731009600@teatropalaciovaldes.es
SUMMARY:EL FANTASMA DE CANTERVILLE
DESCRIPTION:Sótano B (Asturias)\,Hilo Producciones (Cantabria)\,La Estampa Teatro (Extremadura)Autoría: Laila RipollDirección: Sandro CorderoCon Laura Orduña\, Cristina Lorenzo\, Bea Canteli y Concha Rodríguez Personajes\, diálogo\, ritmo\, lenguaje\, conflictos\, atmósfera y giros se unen para formar un todo a caballo entre el esperpento\, el costumbrismo\, el realismo mágico y la novela de terror. 								\n				\n					\n		\n					\n		\n				\n						\n					\n			\n						\n				\n							\n			\n		\n						\n				\n					\n		\n					\n		\n				\n						\n					\n			\n						\n				\n									\n					\n						\n						\n							\n									Comprar entradas
URL:https://teatropalaciovaldes.es/evento/el-fantasma-de-canterville/
CATEGORIES:Estreno Absoluto,Teatro
ATTACH;FMTTYPE=image/jpeg:https://teatropalaciovaldes.es/wp-content/uploads/2024/09/EL-FANTASMA-DE-CANTERVILLE.jpg
END:VEVENT
BEGIN:VEVENT
DTSTART;TZID=Europe/Madrid:20241109T200000
DTEND;TZID=Europe/Madrid:20241109T200000
DTSTAMP:20260425T170032
CREATED:20240902T142421Z
LAST-MODIFIED:20240923T140114Z
UID:6287-1731182400-1731182400@teatropalaciovaldes.es
SUMMARY:CAMINANDO CON ANTONIO MACHADO
DESCRIPTION:Sótano B (Asturias)\,Hilo Producciones (Cantabria)\,La Estampa Teatro (Extremadura)Autoría: Laila RipollDirección: Sandro CorderoCon Laura Orduña\, Cristina Lorenzo\, Bea Canteli y Concha Rodríguez Personajes\, diálogo\, ritmo\, lenguaje\, conflictos\, atmósfera y giros se unen para formar un todo a caballo entre el esperpento\, el costumbrismo\, el realismo mágico y la novela de terror. 								\n				\n					\n		\n					\n		\n				\n						\n					\n			\n						\n				\n							\n			\n		\n						\n				\n					\n		\n					\n		\n				\n						\n					\n			\n						\n				\n									\n					\n						\n						\n							\n									Comprar entradas
URL:https://teatropalaciovaldes.es/evento/caminando-con-antonio-machado/
CATEGORIES:Teatro
ATTACH;FMTTYPE=image/jpeg:https://teatropalaciovaldes.es/wp-content/uploads/2024/09/jose-sacristan-Caminando-con-Antonio-Machad.jpg
END:VEVENT
BEGIN:VEVENT
DTSTART;TZID=Europe/Madrid:20241122T200000
DTEND;TZID=Europe/Madrid:20241122T200000
DTSTAMP:20260425T170032
CREATED:20240902T142650Z
LAST-MODIFIED:20240923T140128Z
UID:6269-1732305600-1732305600@teatropalaciovaldes.es
SUMMARY:LOS LUNES AL SOL
DESCRIPTION:Sótano B (Asturias)\,Hilo Producciones (Cantabria)\,La Estampa Teatro (Extremadura)Autoría: Laila RipollDirección: Sandro CorderoCon Laura Orduña\, Cristina Lorenzo\, Bea Canteli y Concha Rodríguez Personajes\, diálogo\, ritmo\, lenguaje\, conflictos\, atmósfera y giros se unen para formar un todo a caballo entre el esperpento\, el costumbrismo\, el realismo mágico y la novela de terror. 								\n				\n					\n		\n					\n		\n				\n						\n					\n			\n						\n				\n							\n			\n		\n						\n				\n					\n		\n					\n		\n				\n						\n					\n			\n						\n				\n									\n					\n						\n						\n							\n									Comprar entradas
URL:https://teatropalaciovaldes.es/evento/los-lunes-al-sol/
CATEGORIES:Teatro
ATTACH;FMTTYPE=image/jpeg:https://teatropalaciovaldes.es/wp-content/uploads/2024/09/los-lunes-al-sol.jpg
END:VEVENT
END:VCALENDAR