BEGIN:VCALENDAR
VERSION:2.0
PRODID:-//Teatro Palacio Valdés - Avilés - ECPv6.13.2.1//NONSGML v1.0//EN
CALSCALE:GREGORIAN
METHOD:PUBLISH
X-ORIGINAL-URL:https://teatropalaciovaldes.es
X-WR-CALDESC:Eventos para Teatro Palacio Valdés - Avilés
REFRESH-INTERVAL;VALUE=DURATION:PT1H
X-Robots-Tag:noindex
X-PUBLISHED-TTL:PT1H
BEGIN:VTIMEZONE
TZID:Europe/Madrid
BEGIN:DAYLIGHT
TZOFFSETFROM:+0100
TZOFFSETTO:+0200
TZNAME:CEST
DTSTART:20250330T010000
END:DAYLIGHT
BEGIN:STANDARD
TZOFFSETFROM:+0200
TZOFFSETTO:+0100
TZNAME:CET
DTSTART:20251026T010000
END:STANDARD
END:VTIMEZONE
BEGIN:VEVENT
DTSTART;TZID=Europe/Madrid:20250404T200000
DTEND;TZID=Europe/Madrid:20250404T200000
DTSTAMP:20260425T122717
CREATED:20250310T112721Z
LAST-MODIFIED:20250410T095849Z
UID:6662-1743796800-1743796800@teatropalaciovaldes.es
SUMMARY:EL MAR. VISIÓN DE UNOS NIÑOS QUE NO LO HAN VISTO NUNCA
DESCRIPTION:Sótano B (Asturias)\,Hilo Producciones (Cantabria)\,La Estampa Teatro (Extremadura)Autoría: Laila RipollDirección: Sandro CorderoCon Laura Orduña\, Cristina Lorenzo\, Bea Canteli y Concha Rodríguez Personajes\, diálogo\, ritmo\, lenguaje\, conflictos\, atmósfera y giros se unen para formar un todo a caballo entre el esperpento\, el costumbrismo\, el realismo mágico y la novela de terror. 								\n				\n					\n		\n					\n		\n				\n						\n					\n			\n						\n				\n							\n			\n		\n						\n				\n					\n		\n					\n		\n				\n						\n					\n			\n						\n				\n									\n					\n						\n						\n							\n									Comprar entradas
URL:https://teatropalaciovaldes.es/evento/el-mar-vision-de-unos-ninos-que-no-lo-han-visto-nunca/
CATEGORIES:Programación platea,Teatro
ATTACH;FMTTYPE=image/jpeg:https://teatropalaciovaldes.es/wp-content/uploads/2025/03/Antoni-Benaiges-maestro-de-un-pequeno-pueblo-de-Burgos-promete-a-sus-alumnos-llevarlos-a-ver-el-mar-que-ninguno-conoce.-Pero-es-1936-y-la-promesa-no-podra-cumplirse.jpg
END:VEVENT
END:VCALENDAR