BEGIN:VCALENDAR
VERSION:2.0
PRODID:-//Teatro Palacio Valdés - Avilés - ECPv6.13.2.1//NONSGML v1.0//EN
CALSCALE:GREGORIAN
METHOD:PUBLISH
X-ORIGINAL-URL:https://teatropalaciovaldes.es
X-WR-CALDESC:Eventos para Teatro Palacio Valdés - Avilés
REFRESH-INTERVAL;VALUE=DURATION:PT1H
X-Robots-Tag:noindex
X-PUBLISHED-TTL:PT1H
BEGIN:VTIMEZONE
TZID:Europe/Madrid
BEGIN:DAYLIGHT
TZOFFSETFROM:+0100
TZOFFSETTO:+0200
TZNAME:CEST
DTSTART:20250330T010000
END:DAYLIGHT
BEGIN:STANDARD
TZOFFSETFROM:+0200
TZOFFSETTO:+0100
TZNAME:CET
DTSTART:20251026T010000
END:STANDARD
END:VTIMEZONE
BEGIN:VEVENT
DTSTART;TZID=Europe/Madrid:20250302T190000
DTEND;TZID=Europe/Madrid:20250302T190000
DTSTAMP:20260425T152927
CREATED:20241119T134505Z
LAST-MODIFIED:20250202T121435Z
UID:6455-1740942000-1740942000@teatropalaciovaldes.es
SUMMARY:EL CAMINO A LA MECA
DESCRIPTION:Autoría: Rainer Werner FassbinderVersión\, dirección artística y escénica: Rakel CamachoCon Ana Torrent\, Rebeca Matellán\, Maribel Vitar\, Julia Monje y María Luisa San José Historia de amor sáfico\, entre la soledad y la dominación\, en un universo puramente femenino. Un clásico del repertorio europeo que pertenece al período creativo más brillante de su autor. 								\n				\n					\n		\n					\n		\n				\n						\n					\n			\n						\n				\n							\n			\n		\n						\n				\n					\n		\n					\n		\n				\n						\n					\n			\n						\n				\n									\n					\n						\n						\n							\n									Comprar entradas
URL:https://teatropalaciovaldes.es/evento/el-camino-a-la-meca-2/
CATEGORIES:Estreno Absoluto,Teatro
ATTACH;FMTTYPE=image/jpeg:https://teatropalaciovaldes.es/wp-content/uploads/2024/11/camino-a-la-meca.jpg
END:VEVENT
END:VCALENDAR