BEGIN:VCALENDAR
VERSION:2.0
PRODID:-//Teatro Palacio Valdés - Avilés - ECPv6.13.2.1//NONSGML v1.0//EN
CALSCALE:GREGORIAN
METHOD:PUBLISH
X-WR-CALNAME:Teatro Palacio Valdés - Avilés
X-ORIGINAL-URL:https://teatropalaciovaldes.es
X-WR-CALDESC:Eventos para Teatro Palacio Valdés - Avilés
REFRESH-INTERVAL;VALUE=DURATION:PT1H
X-Robots-Tag:noindex
X-PUBLISHED-TTL:PT1H
BEGIN:VTIMEZONE
TZID:Europe/Madrid
BEGIN:DAYLIGHT
TZOFFSETFROM:+0100
TZOFFSETTO:+0200
TZNAME:CEST
DTSTART:20240331T010000
END:DAYLIGHT
BEGIN:STANDARD
TZOFFSETFROM:+0200
TZOFFSETTO:+0100
TZNAME:CET
DTSTART:20241027T010000
END:STANDARD
END:VTIMEZONE
BEGIN:VEVENT
DTSTART;TZID=Europe/Madrid:20240510T201500
DTEND;TZID=Europe/Madrid:20240510T201500
DTSTAMP:20260425T233934
CREATED:20240403T130805Z
LAST-MODIFIED:20240403T131028Z
UID:5887-1715372100-1715372100@teatropalaciovaldes.es
SUMMARY:PARA LA LIBERTAD
DESCRIPTION:Ballet en cinco cuadros sobre poemas de Federico García LorcaIdea\, dirección y coreografía: Antonio NajarroComposición musical: José Luis MontónDramaturgia: Alberto ConejeroCuerpo de baile y músicos de la Compañía Antonio Najarro 								\n				\n					\n		\n					\n		\n				\n						\n					\n			\n						\n				\n							\n			\n		\n						\n				\n					\n		\n					\n		\n				\n						\n					\n			\n						\n				\n									\n					\n						\n						\n							\n									Comprar entradas
URL:https://teatropalaciovaldes.es/evento/para-la-libertad/
CATEGORIES:Estreno Absoluto,Música,Musical,Teatro
ATTACH;FMTTYPE=image/jpeg:https://teatropalaciovaldes.es/wp-content/uploads/2024/04/para-la-libertad-teatro-palacio-valdes.jpg
END:VEVENT
BEGIN:VEVENT
DTSTART;TZID=Europe/Madrid:20240531T203000
DTEND;TZID=Europe/Madrid:20240531T203000
DTSTAMP:20260425T233935
CREATED:20240417T125411Z
LAST-MODIFIED:20240528T100454Z
UID:5945-1717187400-1717187400@teatropalaciovaldes.es
SUMMARY:BROTHERS IN BAND
DESCRIPTION:Ballet en cinco cuadros sobre poemas de Federico García LorcaIdea\, dirección y coreografía: Antonio NajarroComposición musical: José Luis MontónDramaturgia: Alberto ConejeroCuerpo de baile y músicos de la Compañía Antonio Najarro 								\n				\n					\n		\n					\n		\n				\n						\n					\n			\n						\n				\n							\n			\n		\n						\n				\n					\n		\n					\n		\n				\n						\n					\n			\n						\n				\n									\n					\n						\n						\n							\n									Comprar entradas
URL:https://teatropalaciovaldes.es/evento/brothers-in-band/
CATEGORIES:Música
ATTACH;FMTTYPE=image/jpeg:https://teatropalaciovaldes.es/wp-content/uploads/2024/04/Brothers-in-bAND.jpg
END:VEVENT
BEGIN:VEVENT
DTSTART;TZID=Europe/Madrid:20240601T201500
DTEND;TZID=Europe/Madrid:20240601T201500
DTSTAMP:20260425T233935
CREATED:20240305T160704Z
LAST-MODIFIED:20240528T100422Z
UID:5809-1717272900-1717272900@teatropalaciovaldes.es
SUMMARY:PONCIA
DESCRIPTION:Ballet en cinco cuadros sobre poemas de Federico García LorcaIdea\, dirección y coreografía: Antonio NajarroComposición musical: José Luis MontónDramaturgia: Alberto ConejeroCuerpo de baile y músicos de la Compañía Antonio Najarro 								\n				\n					\n		\n					\n		\n				\n						\n					\n			\n						\n				\n							\n			\n		\n						\n				\n					\n		\n					\n		\n				\n						\n					\n			\n						\n				\n									\n					\n						\n						\n							\n									Comprar entradas
URL:https://teatropalaciovaldes.es/evento/poncia/
CATEGORIES:Teatro
ATTACH;FMTTYPE=image/jpeg:https://teatropalaciovaldes.es/wp-content/uploads/2024/03/poncia-lolita-flores.jpg
END:VEVENT
BEGIN:VEVENT
DTSTART;TZID=Europe/Madrid:20240602T190000
DTEND;TZID=Europe/Madrid:20240602T190000
DTSTAMP:20260425T233935
CREATED:20240305T161326Z
LAST-MODIFIED:20240528T100403Z
UID:5817-1717354800-1717354800@teatropalaciovaldes.es
SUMMARY:PONCIA
DESCRIPTION:Ballet en cinco cuadros sobre poemas de Federico García LorcaIdea\, dirección y coreografía: Antonio NajarroComposición musical: José Luis MontónDramaturgia: Alberto ConejeroCuerpo de baile y músicos de la Compañía Antonio Najarro 								\n				\n					\n		\n					\n		\n				\n						\n					\n			\n						\n				\n							\n			\n		\n						\n				\n					\n		\n					\n		\n				\n						\n					\n			\n						\n				\n									\n					\n						\n						\n							\n									Comprar entradas
URL:https://teatropalaciovaldes.es/evento/poncia-2/
CATEGORIES:Teatro
ATTACH;FMTTYPE=image/jpeg:https://teatropalaciovaldes.es/wp-content/uploads/2024/03/poncia-lolita-flores.jpg
END:VEVENT
BEGIN:VEVENT
DTSTART;TZID=Europe/Madrid:20240605T201500
DTEND;TZID=Europe/Madrid:20240605T201500
DTSTAMP:20260425T233935
CREATED:20240305T161728Z
LAST-MODIFIED:20240528T100343Z
UID:5828-1717618500-1717618500@teatropalaciovaldes.es
SUMMARY:LOS POLVOS MELANCÓLICOS
DESCRIPTION:Ballet en cinco cuadros sobre poemas de Federico García LorcaIdea\, dirección y coreografía: Antonio NajarroComposición musical: José Luis MontónDramaturgia: Alberto ConejeroCuerpo de baile y músicos de la Compañía Antonio Najarro 								\n				\n					\n		\n					\n		\n				\n						\n					\n			\n						\n				\n							\n			\n		\n						\n				\n					\n		\n					\n		\n				\n						\n					\n			\n						\n				\n									\n					\n						\n						\n							\n									Comprar entradas
URL:https://teatropalaciovaldes.es/evento/los-polvos-melancolicos/
CATEGORIES:Teatro
ATTACH;FMTTYPE=image/jpeg:https://teatropalaciovaldes.es/wp-content/uploads/2024/03/Los-polvos-melancolicos.jpg
END:VEVENT
BEGIN:VEVENT
DTSTART;TZID=Europe/Madrid:20240606T201500
DTEND;TZID=Europe/Madrid:20240606T201500
DTSTAMP:20260425T233935
CREATED:20240306T143623Z
LAST-MODIFIED:20240606T145957Z
UID:5912-1717704900-1717704900@teatropalaciovaldes.es
SUMMARY:LA COLECCIÓN
DESCRIPTION:Ballet en cinco cuadros sobre poemas de Federico García LorcaIdea\, dirección y coreografía: Antonio NajarroComposición musical: José Luis MontónDramaturgia: Alberto ConejeroCuerpo de baile y músicos de la Compañía Antonio Najarro 								\n				\n					\n		\n					\n		\n				\n						\n					\n			\n						\n				\n							\n			\n		\n						\n				\n					\n		\n					\n		\n				\n						\n					\n			\n						\n				\n									\n					\n						\n						\n							\n									Comprar entradas
URL:https://teatropalaciovaldes.es/evento/la-coleccion-2/
CATEGORIES:Teatro
ATTACH;FMTTYPE=image/jpeg:https://teatropalaciovaldes.es/wp-content/uploads/2024/03/La-coleccion-Interior-1.jpg
END:VEVENT
BEGIN:VEVENT
DTSTART;TZID=Europe/Madrid:20240607T201500
DTEND;TZID=Europe/Madrid:20240607T201500
DTSTAMP:20260425T233935
CREATED:20240305T162210Z
LAST-MODIFIED:20240606T150005Z
UID:5834-1717791300-1717791300@teatropalaciovaldes.es
SUMMARY:LA COLECCIÓN
DESCRIPTION:Ballet en cinco cuadros sobre poemas de Federico García LorcaIdea\, dirección y coreografía: Antonio NajarroComposición musical: José Luis MontónDramaturgia: Alberto ConejeroCuerpo de baile y músicos de la Compañía Antonio Najarro 								\n				\n					\n		\n					\n		\n				\n						\n					\n			\n						\n				\n							\n			\n		\n						\n				\n					\n		\n					\n		\n				\n						\n					\n			\n						\n				\n									\n					\n						\n						\n							\n									Comprar entradas
URL:https://teatropalaciovaldes.es/evento/la-coleccion/
CATEGORIES:Teatro
ATTACH;FMTTYPE=image/jpeg:https://teatropalaciovaldes.es/wp-content/uploads/2024/03/La-coleccion-Interior-1.jpg
END:VEVENT
BEGIN:VEVENT
DTSTART;TZID=Europe/Madrid:20240612T201500
DTEND;TZID=Europe/Madrid:20240612T201500
DTSTAMP:20260425T233935
CREATED:20240305T163000Z
LAST-MODIFIED:20240606T150019Z
UID:5843-1718223300-1718223300@teatropalaciovaldes.es
SUMMARY:LA CABEZA DEL DRAGÓN
DESCRIPTION:Ballet en cinco cuadros sobre poemas de Federico García LorcaIdea\, dirección y coreografía: Antonio NajarroComposición musical: José Luis MontónDramaturgia: Alberto ConejeroCuerpo de baile y músicos de la Compañía Antonio Najarro 								\n				\n					\n		\n					\n		\n				\n						\n					\n			\n						\n				\n							\n			\n		\n						\n				\n					\n		\n					\n		\n				\n						\n					\n			\n						\n				\n									\n					\n						\n						\n							\n									Comprar entradas
URL:https://teatropalaciovaldes.es/evento/la-cabeza-del-dragon/
CATEGORIES:Teatro
ATTACH;FMTTYPE=image/jpeg:https://teatropalaciovaldes.es/wp-content/uploads/2024/03/la-cabez-adel-dragon.jpg
END:VEVENT
BEGIN:VEVENT
DTSTART;TZID=Europe/Madrid:20240621T201500
DTEND;TZID=Europe/Madrid:20240621T201500
DTSTAMP:20260425T233935
CREATED:20240305T163347Z
LAST-MODIFIED:20240614T143316Z
UID:5849-1719000900-1719000900@teatropalaciovaldes.es
SUMMARY:LA MADRE
DESCRIPTION:Ballet en cinco cuadros sobre poemas de Federico García LorcaIdea\, dirección y coreografía: Antonio NajarroComposición musical: José Luis MontónDramaturgia: Alberto ConejeroCuerpo de baile y músicos de la Compañía Antonio Najarro 								\n				\n					\n		\n					\n		\n				\n						\n					\n			\n						\n				\n							\n			\n		\n						\n				\n					\n		\n					\n		\n				\n						\n					\n			\n						\n				\n									\n					\n						\n						\n							\n									Comprar entradas
URL:https://teatropalaciovaldes.es/evento/la-madre/
CATEGORIES:Teatro
ATTACH;FMTTYPE=image/jpeg:https://teatropalaciovaldes.es/wp-content/uploads/2024/03/LA-MADRE.jpg
END:VEVENT
BEGIN:VEVENT
DTSTART;TZID=Europe/Madrid:20240719T200000
DTEND;TZID=Europe/Madrid:20240719T200000
DTSTAMP:20260425T233935
CREATED:20240618T160345Z
LAST-MODIFIED:20240618T163800Z
UID:6138-1721419200-1721419200@teatropalaciovaldes.es
SUMMARY:AvilÉsMúsica
DESCRIPTION:Ballet en cinco cuadros sobre poemas de Federico García LorcaIdea\, dirección y coreografía: Antonio NajarroComposición musical: José Luis MontónDramaturgia: Alberto ConejeroCuerpo de baile y músicos de la Compañía Antonio Najarro 								\n				\n					\n		\n					\n		\n				\n						\n					\n			\n						\n				\n							\n			\n		\n						\n				\n					\n		\n					\n		\n				\n						\n					\n			\n						\n				\n									\n					\n						\n						\n							\n									Comprar entradas
URL:https://teatropalaciovaldes.es/evento/avilesmusica/
CATEGORIES:Musical
ATTACH;FMTTYPE=image/png:https://teatropalaciovaldes.es/wp-content/uploads/2024/06/ENTRADAS-03.png
END:VEVENT
BEGIN:VEVENT
DTSTART;TZID=Europe/Madrid:20240720T200000
DTEND;TZID=Europe/Madrid:20240720T200000
DTSTAMP:20260425T233935
CREATED:20240618T161156Z
LAST-MODIFIED:20240618T163548Z
UID:6145-1721505600-1721505600@teatropalaciovaldes.es
SUMMARY:AvilÉsMúsica
DESCRIPTION:Ballet en cinco cuadros sobre poemas de Federico García LorcaIdea\, dirección y coreografía: Antonio NajarroComposición musical: José Luis MontónDramaturgia: Alberto ConejeroCuerpo de baile y músicos de la Compañía Antonio Najarro 								\n				\n					\n		\n					\n		\n				\n						\n					\n			\n						\n				\n							\n			\n		\n						\n				\n					\n		\n					\n		\n				\n						\n					\n			\n						\n				\n									\n					\n						\n						\n							\n									Comprar entradas
URL:https://teatropalaciovaldes.es/evento/avilesmusica-2/
CATEGORIES:Música
ATTACH;FMTTYPE=image/png:https://teatropalaciovaldes.es/wp-content/uploads/2024/06/ENTRADAS-04.png
END:VEVENT
BEGIN:VEVENT
DTSTART;TZID=Europe/Madrid:20240802T200000
DTEND;TZID=Europe/Madrid:20240802T200000
DTSTAMP:20260425T233935
CREATED:20240614T142736Z
LAST-MODIFIED:20240729T193750Z
UID:6102-1722628800-1722628800@teatropalaciovaldes.es
SUMMARY:EL PERRO DEL HORTELANO
DESCRIPTION:Ballet en cinco cuadros sobre poemas de Federico García LorcaIdea\, dirección y coreografía: Antonio NajarroComposición musical: José Luis MontónDramaturgia: Alberto ConejeroCuerpo de baile y músicos de la Compañía Antonio Najarro 								\n				\n					\n		\n					\n		\n				\n						\n					\n			\n						\n				\n							\n			\n		\n						\n				\n					\n		\n					\n		\n				\n						\n					\n			\n						\n				\n									\n					\n						\n						\n							\n									Comprar entradas
URL:https://teatropalaciovaldes.es/evento/el-perro-del-hortelano/
CATEGORIES:Teatro
ATTACH;FMTTYPE=image/jpeg:https://teatropalaciovaldes.es/wp-content/uploads/2024/06/el-perro-del-hortelano.jpg
END:VEVENT
BEGIN:VEVENT
DTSTART;TZID=Europe/Madrid:20240803T200000
DTEND;TZID=Europe/Madrid:20240803T200000
DTSTAMP:20260425T233935
CREATED:20240614T142038Z
LAST-MODIFIED:20240729T194132Z
UID:6094-1722715200-1722715200@teatropalaciovaldes.es
SUMMARY:LA DAMA BOBA
DESCRIPTION:Ballet en cinco cuadros sobre poemas de Federico García LorcaIdea\, dirección y coreografía: Antonio NajarroComposición musical: José Luis MontónDramaturgia: Alberto ConejeroCuerpo de baile y músicos de la Compañía Antonio Najarro 								\n				\n					\n		\n					\n		\n				\n						\n					\n			\n						\n				\n							\n			\n		\n						\n				\n					\n		\n					\n		\n				\n						\n					\n			\n						\n				\n									\n					\n						\n						\n							\n									Comprar entradas
URL:https://teatropalaciovaldes.es/evento/la-dama-boba/
CATEGORIES:Teatro
ATTACH;FMTTYPE=image/jpeg:https://teatropalaciovaldes.es/wp-content/uploads/2024/06/la-dama-boba.jpg
END:VEVENT
BEGIN:VEVENT
DTSTART;TZID=Europe/Madrid:20240830T200000
DTEND;TZID=Europe/Madrid:20240830T200000
DTSTAMP:20260425T233935
CREATED:20240614T141515Z
LAST-MODIFIED:20240614T143243Z
UID:6086-1725048000-1725048000@teatropalaciovaldes.es
SUMMARY:MALDITOS TACONES
DESCRIPTION:Ballet en cinco cuadros sobre poemas de Federico García LorcaIdea\, dirección y coreografía: Antonio NajarroComposición musical: José Luis MontónDramaturgia: Alberto ConejeroCuerpo de baile y músicos de la Compañía Antonio Najarro 								\n				\n					\n		\n					\n		\n				\n						\n					\n			\n						\n				\n							\n			\n		\n						\n				\n					\n		\n					\n		\n				\n						\n					\n			\n						\n				\n									\n					\n						\n						\n							\n									Comprar entradas
URL:https://teatropalaciovaldes.es/evento/malditos-tacones/
CATEGORIES:Estreno Absoluto,Teatro
ATTACH;FMTTYPE=image/jpeg:https://teatropalaciovaldes.es/wp-content/uploads/2024/06/malditos-tacones.jpg
END:VEVENT
BEGIN:VEVENT
DTSTART;TZID=Europe/Madrid:20241004T203000
DTEND;TZID=Europe/Madrid:20241004T203000
DTSTAMP:20260425T233935
CREATED:20240514T115116Z
LAST-MODIFIED:20240924T161532Z
UID:6000-1728073800-1728073800@teatropalaciovaldes.es
SUMMARY:RUMOURS OF FLEETWOOD MAC
DESCRIPTION:Ballet en cinco cuadros sobre poemas de Federico García LorcaIdea\, dirección y coreografía: Antonio NajarroComposición musical: José Luis MontónDramaturgia: Alberto ConejeroCuerpo de baile y músicos de la Compañía Antonio Najarro 								\n				\n					\n		\n					\n		\n				\n						\n					\n			\n						\n				\n							\n			\n		\n						\n				\n					\n		\n					\n		\n				\n						\n					\n			\n						\n				\n									\n					\n						\n						\n							\n									Comprar entradas
URL:https://teatropalaciovaldes.es/evento/rumours-of-fleetwood-mac/
CATEGORIES:Música
ATTACH;FMTTYPE=image/jpeg:https://teatropalaciovaldes.es/wp-content/uploads/2024/05/AVILES.jpg
END:VEVENT
BEGIN:VEVENT
DTSTART;TZID=Europe/Madrid:20241016T200000
DTEND;TZID=Europe/Madrid:20241016T200000
DTSTAMP:20260425T233935
CREATED:20240902T140906Z
LAST-MODIFIED:20240923T135936Z
UID:6246-1729108800-1729108800@teatropalaciovaldes.es
SUMMARY:LA PARÁBOLA DEL CARBÓN
DESCRIPTION:Ballet en cinco cuadros sobre poemas de Federico García LorcaIdea\, dirección y coreografía: Antonio NajarroComposición musical: José Luis MontónDramaturgia: Alberto ConejeroCuerpo de baile y músicos de la Compañía Antonio Najarro 								\n				\n					\n		\n					\n		\n				\n						\n					\n			\n						\n				\n							\n			\n		\n						\n				\n					\n		\n					\n		\n				\n						\n					\n			\n						\n				\n									\n					\n						\n						\n							\n									Comprar entradas
URL:https://teatropalaciovaldes.es/evento/la-parabola-del-carbon/
CATEGORIES:Teatro
ATTACH;FMTTYPE=image/jpeg:https://teatropalaciovaldes.es/wp-content/uploads/2024/09/la-parabola-del-carbon.jpg
END:VEVENT
BEGIN:VEVENT
DTSTART;TZID=Europe/Madrid:20241019T200000
DTEND;TZID=Europe/Madrid:20241019T200000
DTSTAMP:20260425T233935
CREATED:20240902T141422Z
LAST-MODIFIED:20250410T095751Z
UID:6252-1729368000-1729368000@teatropalaciovaldes.es
SUMMARY:FOREVER
DESCRIPTION:Ballet en cinco cuadros sobre poemas de Federico García LorcaIdea\, dirección y coreografía: Antonio NajarroComposición musical: José Luis MontónDramaturgia: Alberto ConejeroCuerpo de baile y músicos de la Compañía Antonio Najarro 								\n				\n					\n		\n					\n		\n				\n						\n					\n			\n						\n				\n							\n			\n		\n						\n				\n					\n		\n					\n		\n				\n						\n					\n			\n						\n				\n									\n					\n						\n						\n							\n									Comprar entradas
URL:https://teatropalaciovaldes.es/evento/forever/
CATEGORIES:Programación platea,Teatro
ATTACH;FMTTYPE=image/jpeg:https://teatropalaciovaldes.es/wp-content/uploads/2024/09/forever.jpg
END:VEVENT
BEGIN:VEVENT
DTSTART;TZID=Europe/Madrid:20241025T201500
DTEND;TZID=Europe/Madrid:20241025T201500
DTSTAMP:20260425T233935
CREATED:20240624T164617Z
LAST-MODIFIED:20240923T140005Z
UID:6173-1729887300-1729887300@teatropalaciovaldes.es
SUMMARY:LA MOVIDA\, EL MUSICAL DE LOS 80'S
DESCRIPTION:Ballet en cinco cuadros sobre poemas de Federico García LorcaIdea\, dirección y coreografía: Antonio NajarroComposición musical: José Luis MontónDramaturgia: Alberto ConejeroCuerpo de baile y músicos de la Compañía Antonio Najarro 								\n				\n					\n		\n					\n		\n				\n						\n					\n			\n						\n				\n							\n			\n		\n						\n				\n					\n		\n					\n		\n				\n						\n					\n			\n						\n				\n									\n					\n						\n						\n							\n									Comprar entradas
URL:https://teatropalaciovaldes.es/evento/la-movida-el-musical-de-los-80s/
CATEGORIES:Música
ATTACH;FMTTYPE=image/jpeg:https://teatropalaciovaldes.es/wp-content/uploads/2024/06/la-movida.jpg
END:VEVENT
BEGIN:VEVENT
DTSTART;TZID=Europe/Madrid:20241026T170000
DTEND;TZID=Europe/Madrid:20241026T170000
DTSTAMP:20260425T233935
CREATED:20240624T164928Z
LAST-MODIFIED:20240923T140019Z
UID:6179-1729962000-1729962000@teatropalaciovaldes.es
SUMMARY:LA MOVIDA\, EL MUSICAL DE LOS 80'S
DESCRIPTION:Ballet en cinco cuadros sobre poemas de Federico García LorcaIdea\, dirección y coreografía: Antonio NajarroComposición musical: José Luis MontónDramaturgia: Alberto ConejeroCuerpo de baile y músicos de la Compañía Antonio Najarro 								\n				\n					\n		\n					\n		\n				\n						\n					\n			\n						\n				\n							\n			\n		\n						\n				\n					\n		\n					\n		\n				\n						\n					\n			\n						\n				\n									\n					\n						\n						\n							\n									Comprar entradas
URL:https://teatropalaciovaldes.es/evento/la-movida-el-musical-de-los-80s-2/
CATEGORIES:Música
ATTACH;FMTTYPE=image/jpeg:https://teatropalaciovaldes.es/wp-content/uploads/2024/06/la-movida.jpg
END:VEVENT
BEGIN:VEVENT
DTSTART;TZID=Europe/Madrid:20241026T201500
DTEND;TZID=Europe/Madrid:20241026T201500
DTSTAMP:20260425T233935
CREATED:20240624T165026Z
LAST-MODIFIED:20240923T140034Z
UID:6182-1729973700-1729973700@teatropalaciovaldes.es
SUMMARY:LA MOVIDA\, EL MUSICAL DE LOS 80'S
DESCRIPTION:Ballet en cinco cuadros sobre poemas de Federico García LorcaIdea\, dirección y coreografía: Antonio NajarroComposición musical: José Luis MontónDramaturgia: Alberto ConejeroCuerpo de baile y músicos de la Compañía Antonio Najarro 								\n				\n					\n		\n					\n		\n				\n						\n					\n			\n						\n				\n							\n			\n		\n						\n				\n					\n		\n					\n		\n				\n						\n					\n			\n						\n				\n									\n					\n						\n						\n							\n									Comprar entradas
URL:https://teatropalaciovaldes.es/evento/la-movida-el-musical-de-los-80s-3/
CATEGORIES:Música
ATTACH;FMTTYPE=image/jpeg:https://teatropalaciovaldes.es/wp-content/uploads/2024/06/la-movida.jpg
END:VEVENT
BEGIN:VEVENT
DTSTART;TZID=Europe/Madrid:20241030T200000
DTEND;TZID=Europe/Madrid:20241030T200000
DTSTAMP:20260425T233936
CREATED:20240902T141901Z
LAST-MODIFIED:20240923T140047Z
UID:6257-1730318400-1730318400@teatropalaciovaldes.es
SUMMARY:FORMAS DE SABER QUE SIGUES VIVO
DESCRIPTION:Ballet en cinco cuadros sobre poemas de Federico García LorcaIdea\, dirección y coreografía: Antonio NajarroComposición musical: José Luis MontónDramaturgia: Alberto ConejeroCuerpo de baile y músicos de la Compañía Antonio Najarro 								\n				\n					\n		\n					\n		\n				\n						\n					\n			\n						\n				\n							\n			\n		\n						\n				\n					\n		\n					\n		\n				\n						\n					\n			\n						\n				\n									\n					\n						\n						\n							\n									Comprar entradas
URL:https://teatropalaciovaldes.es/evento/formas-de-saber-que-sigues-vivo/
CATEGORIES:Estreno Absoluto,Teatro
ATTACH;FMTTYPE=image/jpeg:https://teatropalaciovaldes.es/wp-content/uploads/2024/09/formas-de-saber-que-sigues-vivo.jpg
END:VEVENT
BEGIN:VEVENT
DTSTART;TZID=Europe/Madrid:20241107T200000
DTEND;TZID=Europe/Madrid:20241107T200000
DTSTAMP:20260425T233936
CREATED:20240902T142301Z
LAST-MODIFIED:20240923T140100Z
UID:6263-1731009600-1731009600@teatropalaciovaldes.es
SUMMARY:EL FANTASMA DE CANTERVILLE
DESCRIPTION:Ballet en cinco cuadros sobre poemas de Federico García LorcaIdea\, dirección y coreografía: Antonio NajarroComposición musical: José Luis MontónDramaturgia: Alberto ConejeroCuerpo de baile y músicos de la Compañía Antonio Najarro 								\n				\n					\n		\n					\n		\n				\n						\n					\n			\n						\n				\n							\n			\n		\n						\n				\n					\n		\n					\n		\n				\n						\n					\n			\n						\n				\n									\n					\n						\n						\n							\n									Comprar entradas
URL:https://teatropalaciovaldes.es/evento/el-fantasma-de-canterville/
CATEGORIES:Estreno Absoluto,Teatro
ATTACH;FMTTYPE=image/jpeg:https://teatropalaciovaldes.es/wp-content/uploads/2024/09/EL-FANTASMA-DE-CANTERVILLE.jpg
END:VEVENT
BEGIN:VEVENT
DTSTART;TZID=Europe/Madrid:20241109T200000
DTEND;TZID=Europe/Madrid:20241109T200000
DTSTAMP:20260425T233936
CREATED:20240902T142421Z
LAST-MODIFIED:20240923T140114Z
UID:6287-1731182400-1731182400@teatropalaciovaldes.es
SUMMARY:CAMINANDO CON ANTONIO MACHADO
DESCRIPTION:Ballet en cinco cuadros sobre poemas de Federico García LorcaIdea\, dirección y coreografía: Antonio NajarroComposición musical: José Luis MontónDramaturgia: Alberto ConejeroCuerpo de baile y músicos de la Compañía Antonio Najarro 								\n				\n					\n		\n					\n		\n				\n						\n					\n			\n						\n				\n							\n			\n		\n						\n				\n					\n		\n					\n		\n				\n						\n					\n			\n						\n				\n									\n					\n						\n						\n							\n									Comprar entradas
URL:https://teatropalaciovaldes.es/evento/caminando-con-antonio-machado/
CATEGORIES:Teatro
ATTACH;FMTTYPE=image/jpeg:https://teatropalaciovaldes.es/wp-content/uploads/2024/09/jose-sacristan-Caminando-con-Antonio-Machad.jpg
END:VEVENT
BEGIN:VEVENT
DTSTART;TZID=Europe/Madrid:20241110T170000
DTEND;TZID=Europe/Madrid:20241110T170000
DTSTAMP:20260425T233936
CREATED:20241002T124337Z
LAST-MODIFIED:20241002T124619Z
UID:6303-1731258000-1731258000@teatropalaciovaldes.es
SUMMARY:LAS VULNERABILIDADES DE LAS PALABRAS
DESCRIPTION:Ballet en cinco cuadros sobre poemas de Federico García LorcaIdea\, dirección y coreografía: Antonio NajarroComposición musical: José Luis MontónDramaturgia: Alberto ConejeroCuerpo de baile y músicos de la Compañía Antonio Najarro 								\n				\n					\n		\n					\n		\n				\n						\n					\n			\n						\n				\n							\n			\n		\n						\n				\n					\n		\n					\n		\n				\n						\n					\n			\n						\n				\n									\n					\n						\n						\n							\n									Comprar entradas
URL:https://teatropalaciovaldes.es/evento/las-vulnerabilidades-de-las-palabras/
CATEGORIES:Lectura dramatizada,Poesía
ATTACH;FMTTYPE=image/jpeg:https://teatropalaciovaldes.es/wp-content/uploads/2024/10/elvira-sanstre.jpg
END:VEVENT
BEGIN:VEVENT
DTSTART;TZID=Europe/Madrid:20241122T200000
DTEND;TZID=Europe/Madrid:20241122T200000
DTSTAMP:20260425T233936
CREATED:20240902T142650Z
LAST-MODIFIED:20240923T140128Z
UID:6269-1732305600-1732305600@teatropalaciovaldes.es
SUMMARY:LOS LUNES AL SOL
DESCRIPTION:Ballet en cinco cuadros sobre poemas de Federico García LorcaIdea\, dirección y coreografía: Antonio NajarroComposición musical: José Luis MontónDramaturgia: Alberto ConejeroCuerpo de baile y músicos de la Compañía Antonio Najarro 								\n				\n					\n		\n					\n		\n				\n						\n					\n			\n						\n				\n							\n			\n		\n						\n				\n					\n		\n					\n		\n				\n						\n					\n			\n						\n				\n									\n					\n						\n						\n							\n									Comprar entradas
URL:https://teatropalaciovaldes.es/evento/los-lunes-al-sol/
CATEGORIES:Teatro
ATTACH;FMTTYPE=image/jpeg:https://teatropalaciovaldes.es/wp-content/uploads/2024/09/los-lunes-al-sol.jpg
END:VEVENT
BEGIN:VEVENT
DTSTART;TZID=Europe/Madrid:20241213T200000
DTEND;TZID=Europe/Madrid:20241213T200000
DTSTAMP:20260425T233936
CREATED:20240902T143104Z
LAST-MODIFIED:20241104T151605Z
UID:6275-1734120000-1734120000@teatropalaciovaldes.es
SUMMARY:LOS DE AHÍ
DESCRIPTION:Ballet en cinco cuadros sobre poemas de Federico García LorcaIdea\, dirección y coreografía: Antonio NajarroComposición musical: José Luis MontónDramaturgia: Alberto ConejeroCuerpo de baile y músicos de la Compañía Antonio Najarro 								\n				\n					\n		\n					\n		\n				\n						\n					\n			\n						\n				\n							\n			\n		\n						\n				\n					\n		\n					\n		\n				\n						\n					\n			\n						\n				\n									\n					\n						\n						\n							\n									Comprar entradas
URL:https://teatropalaciovaldes.es/evento/los-de-ahi/
CATEGORIES:Estreno Absoluto,Teatro
ATTACH;FMTTYPE=image/jpeg:https://teatropalaciovaldes.es/wp-content/uploads/2024/10/los-de-ahi-tpv.jpg
END:VEVENT
BEGIN:VEVENT
DTSTART;TZID=Europe/Madrid:20241214T200000
DTEND;TZID=Europe/Madrid:20241214T200000
DTSTAMP:20260425T233936
CREATED:20241017T095206Z
LAST-MODIFIED:20241104T151631Z
UID:6321-1734206400-1734206400@teatropalaciovaldes.es
SUMMARY:LOS DE AHÍ
DESCRIPTION:Ballet en cinco cuadros sobre poemas de Federico García LorcaIdea\, dirección y coreografía: Antonio NajarroComposición musical: José Luis MontónDramaturgia: Alberto ConejeroCuerpo de baile y músicos de la Compañía Antonio Najarro 								\n				\n					\n		\n					\n		\n				\n						\n					\n			\n						\n				\n							\n			\n		\n						\n				\n					\n		\n					\n		\n				\n						\n					\n			\n						\n				\n									\n					\n						\n						\n							\n									Comprar entradas
URL:https://teatropalaciovaldes.es/evento/los-de-ahi-2/
CATEGORIES:Estreno Absoluto,Teatro
ATTACH;FMTTYPE=image/jpeg:https://teatropalaciovaldes.es/wp-content/uploads/2024/10/los-de-ahi-tpv.jpg
END:VEVENT
BEGIN:VEVENT
DTSTART;TZID=Europe/Madrid:20241219T200000
DTEND;TZID=Europe/Madrid:20241219T200000
DTSTAMP:20260425T233936
CREATED:20240902T143536Z
LAST-MODIFIED:20241216T171930Z
UID:6280-1734638400-1734638400@teatropalaciovaldes.es
SUMMARY:MAGIA. UNA COMEDIA  FANTÁSTICA
DESCRIPTION:Ballet en cinco cuadros sobre poemas de Federico García LorcaIdea\, dirección y coreografía: Antonio NajarroComposición musical: José Luis MontónDramaturgia: Alberto ConejeroCuerpo de baile y músicos de la Compañía Antonio Najarro 								\n				\n					\n		\n					\n		\n				\n						\n					\n			\n						\n				\n							\n			\n		\n						\n				\n					\n		\n					\n		\n				\n						\n					\n			\n						\n				\n									\n					\n						\n						\n							\n									Comprar entradas
URL:https://teatropalaciovaldes.es/evento/magia-una-comedia-fantastica/
CATEGORIES:Estreno Absoluto,Teatro
ATTACH;FMTTYPE=image/jpeg:https://teatropalaciovaldes.es/wp-content/uploads/2024/09/MAGIA.-UNA-COMEDIA.jpg
END:VEVENT
BEGIN:VEVENT
DTSTART;TZID=Europe/Madrid:20241221T120000
DTEND;TZID=Europe/Madrid:20241223T200000
DTSTAMP:20260425T233936
CREATED:20241216T170632Z
LAST-MODIFIED:20241216T171948Z
UID:6511-1734782400-1734984000@teatropalaciovaldes.es
SUMMARY:VISITAS TEATRALIZADAS
DESCRIPTION:Ballet en cinco cuadros sobre poemas de Federico García LorcaIdea\, dirección y coreografía: Antonio NajarroComposición musical: José Luis MontónDramaturgia: Alberto ConejeroCuerpo de baile y músicos de la Compañía Antonio Najarro 								\n				\n					\n		\n					\n		\n				\n						\n					\n			\n						\n				\n							\n			\n		\n						\n				\n					\n		\n					\n		\n				\n						\n					\n			\n						\n				\n									\n					\n						\n						\n							\n									Comprar entradas
URL:https://teatropalaciovaldes.es/evento/visitas-teatralizadas-2/
CATEGORIES:visitas teatralizadas
ATTACH;FMTTYPE=image/jpeg:https://teatropalaciovaldes.es/wp-content/uploads/2024/12/visitas-teatralizadas.jpg
END:VEVENT
BEGIN:VEVENT
DTSTART;TZID=Europe/Madrid:20241227T170000
DTEND;TZID=Europe/Madrid:20241227T170000
DTSTAMP:20260425T233936
CREATED:20241108T124559Z
LAST-MODIFIED:20241108T145212Z
UID:6387-1735318800-1735318800@teatropalaciovaldes.es
SUMMARY:TOTALLY TINA
DESCRIPTION:Ballet en cinco cuadros sobre poemas de Federico García LorcaIdea\, dirección y coreografía: Antonio NajarroComposición musical: José Luis MontónDramaturgia: Alberto ConejeroCuerpo de baile y músicos de la Compañía Antonio Najarro 								\n				\n					\n		\n					\n		\n				\n						\n					\n			\n						\n				\n							\n			\n		\n						\n				\n					\n		\n					\n		\n				\n						\n					\n			\n						\n				\n									\n					\n						\n						\n							\n									Comprar entradas
URL:https://teatropalaciovaldes.es/evento/totally-tina-2/
CATEGORIES:Música
ATTACH;FMTTYPE=image/jpeg:https://teatropalaciovaldes.es/wp-content/uploads/2024/10/total-tina-aviles-1.jpg
END:VEVENT
END:VCALENDAR