BEGIN:VCALENDAR
VERSION:2.0
PRODID:-//Teatro Palacio Valdés - Avilés - ECPv6.13.2.1//NONSGML v1.0//EN
CALSCALE:GREGORIAN
METHOD:PUBLISH
X-WR-CALNAME:Teatro Palacio Valdés - Avilés
X-ORIGINAL-URL:https://teatropalaciovaldes.es
X-WR-CALDESC:Eventos para Teatro Palacio Valdés - Avilés
REFRESH-INTERVAL;VALUE=DURATION:PT1H
X-Robots-Tag:noindex
X-PUBLISHED-TTL:PT1H
BEGIN:VTIMEZONE
TZID:Europe/Madrid
BEGIN:DAYLIGHT
TZOFFSETFROM:+0100
TZOFFSETTO:+0200
TZNAME:CEST
DTSTART:20250330T010000
END:DAYLIGHT
BEGIN:STANDARD
TZOFFSETFROM:+0200
TZOFFSETTO:+0100
TZNAME:CET
DTSTART:20251026T010000
END:STANDARD
END:VTIMEZONE
BEGIN:VEVENT
DTSTART;TZID=Europe/Madrid:20250228T200000
DTEND;TZID=Europe/Madrid:20250228T200000
DTSTAMP:20260425T141235
CREATED:20241119T134307Z
LAST-MODIFIED:20250202T121420Z
UID:6450-1740772800-1740772800@teatropalaciovaldes.es
SUMMARY:EL CAMINO A LA MECA
DESCRIPTION:Ballet en cinco cuadros sobre poemas de Federico García LorcaIdea\, dirección y coreografía: Antonio NajarroComposición musical: José Luis MontónDramaturgia: Alberto ConejeroCuerpo de baile y músicos de la Compañía Antonio Najarro 								\n				\n					\n		\n					\n		\n				\n						\n					\n			\n						\n				\n							\n			\n		\n						\n				\n					\n		\n					\n		\n				\n						\n					\n			\n						\n				\n									\n					\n						\n						\n							\n									Comprar entradas
URL:https://teatropalaciovaldes.es/evento/el-camino-a-la-meca/
CATEGORIES:Estreno Absoluto,Teatro
ATTACH;FMTTYPE=image/jpeg:https://teatropalaciovaldes.es/wp-content/uploads/2024/11/camino-a-la-meca.jpg
END:VEVENT
BEGIN:VEVENT
DTSTART;TZID=Europe/Madrid:20250302T190000
DTEND;TZID=Europe/Madrid:20250302T190000
DTSTAMP:20260425T141235
CREATED:20241119T134505Z
LAST-MODIFIED:20250202T121435Z
UID:6455-1740942000-1740942000@teatropalaciovaldes.es
SUMMARY:EL CAMINO A LA MECA
DESCRIPTION:Ballet en cinco cuadros sobre poemas de Federico García LorcaIdea\, dirección y coreografía: Antonio NajarroComposición musical: José Luis MontónDramaturgia: Alberto ConejeroCuerpo de baile y músicos de la Compañía Antonio Najarro 								\n				\n					\n		\n					\n		\n				\n						\n					\n			\n						\n				\n							\n			\n		\n						\n				\n					\n		\n					\n		\n				\n						\n					\n			\n						\n				\n									\n					\n						\n						\n							\n									Comprar entradas
URL:https://teatropalaciovaldes.es/evento/el-camino-a-la-meca-2/
CATEGORIES:Estreno Absoluto,Teatro
ATTACH;FMTTYPE=image/jpeg:https://teatropalaciovaldes.es/wp-content/uploads/2024/11/camino-a-la-meca.jpg
END:VEVENT
BEGIN:VEVENT
DTSTART;TZID=Europe/Madrid:20250314T200000
DTEND;TZID=Europe/Madrid:20250314T200000
DTSTAMP:20260425T141235
CREATED:20241119T134829Z
LAST-MODIFIED:20250310T113209Z
UID:6457-1741982400-1741982400@teatropalaciovaldes.es
SUMMARY:EL EFECTO
DESCRIPTION:Ballet en cinco cuadros sobre poemas de Federico García LorcaIdea\, dirección y coreografía: Antonio NajarroComposición musical: José Luis MontónDramaturgia: Alberto ConejeroCuerpo de baile y músicos de la Compañía Antonio Najarro 								\n				\n					\n		\n					\n		\n				\n						\n					\n			\n						\n				\n							\n			\n		\n						\n				\n					\n		\n					\n		\n				\n						\n					\n			\n						\n				\n									\n					\n						\n						\n							\n									Comprar entradas
URL:https://teatropalaciovaldes.es/evento/el-efecto/
CATEGORIES:Estreno Absoluto,Teatro
ATTACH;FMTTYPE=image/jpeg:https://teatropalaciovaldes.es/wp-content/uploads/2024/11/el-efecto.jpg
END:VEVENT
BEGIN:VEVENT
DTSTART;TZID=Europe/Madrid:20250315T200000
DTEND;TZID=Europe/Madrid:20250315T200000
DTSTAMP:20260425T141235
CREATED:20241119T135153Z
LAST-MODIFIED:20250310T113226Z
UID:6463-1742068800-1742068800@teatropalaciovaldes.es
SUMMARY:EL EFECTO
DESCRIPTION:Ballet en cinco cuadros sobre poemas de Federico García LorcaIdea\, dirección y coreografía: Antonio NajarroComposición musical: José Luis MontónDramaturgia: Alberto ConejeroCuerpo de baile y músicos de la Compañía Antonio Najarro 								\n				\n					\n		\n					\n		\n				\n						\n					\n			\n						\n				\n							\n			\n		\n						\n				\n					\n		\n					\n		\n				\n						\n					\n			\n						\n				\n									\n					\n						\n						\n							\n									Comprar entradas
URL:https://teatropalaciovaldes.es/evento/el-efecto-2/
CATEGORIES:Estreno Absoluto,Teatro
ATTACH;FMTTYPE=image/jpeg:https://teatropalaciovaldes.es/wp-content/uploads/2024/11/el-efecto.jpg
END:VEVENT
BEGIN:VEVENT
DTSTART;TZID=Europe/Madrid:20250323T190000
DTEND;TZID=Europe/Madrid:20250323T190000
DTSTAMP:20260425T141235
CREATED:20241119T135522Z
LAST-MODIFIED:20250318T141633Z
UID:6465-1742756400-1742756400@teatropalaciovaldes.es
SUMMARY:SOBRE LAS HOJAS DE HIERBA. (WALT WHITMAN)
DESCRIPTION:Ballet en cinco cuadros sobre poemas de Federico García LorcaIdea\, dirección y coreografía: Antonio NajarroComposición musical: José Luis MontónDramaturgia: Alberto ConejeroCuerpo de baile y músicos de la Compañía Antonio Najarro 								\n				\n					\n		\n					\n		\n				\n						\n					\n			\n						\n				\n							\n			\n		\n						\n				\n					\n		\n					\n		\n				\n						\n					\n			\n						\n				\n									\n					\n						\n						\n							\n									Comprar entradas
URL:https://teatropalaciovaldes.es/evento/sobre-las-hojas-de-hierba-walt-whitman/
CATEGORIES:Poesía,Teatro
ATTACH;FMTTYPE=image/jpeg:https://teatropalaciovaldes.es/wp-content/uploads/2024/11/‘SOBRE-LAS-HOJAS-DE-HIERBA.jpg
END:VEVENT
BEGIN:VEVENT
DTSTART;TZID=Europe/Madrid:20250328T200000
DTEND;TZID=Europe/Madrid:20250328T200000
DTSTAMP:20260425T141235
CREATED:20241120T135837Z
LAST-MODIFIED:20250324T115106Z
UID:6470-1743192000-1743192000@teatropalaciovaldes.es
SUMMARY:LOS DOS HIDALGOS DE VERONA
DESCRIPTION:Ballet en cinco cuadros sobre poemas de Federico García LorcaIdea\, dirección y coreografía: Antonio NajarroComposición musical: José Luis MontónDramaturgia: Alberto ConejeroCuerpo de baile y músicos de la Compañía Antonio Najarro 								\n				\n					\n		\n					\n		\n				\n						\n					\n			\n						\n				\n							\n			\n		\n						\n				\n					\n		\n					\n		\n				\n						\n					\n			\n						\n				\n									\n					\n						\n						\n							\n									Comprar entradas
URL:https://teatropalaciovaldes.es/evento/los-dos-hidalgos-de-verona/
CATEGORIES:Estreno Absoluto,Teatro
ATTACH;FMTTYPE=image/jpeg:https://teatropalaciovaldes.es/wp-content/uploads/2024/11/‘LOS-DOS-HIDALGOS-DE-VERONA.jpg
END:VEVENT
BEGIN:VEVENT
DTSTART;TZID=Europe/Madrid:20250329T200000
DTEND;TZID=Europe/Madrid:20250329T200000
DTSTAMP:20260425T141235
CREATED:20241119T135821Z
LAST-MODIFIED:20250324T115124Z
UID:6475-1743278400-1743278400@teatropalaciovaldes.es
SUMMARY:LOS DOS HIDALGOS DE VERONA
DESCRIPTION:Ballet en cinco cuadros sobre poemas de Federico García LorcaIdea\, dirección y coreografía: Antonio NajarroComposición musical: José Luis MontónDramaturgia: Alberto ConejeroCuerpo de baile y músicos de la Compañía Antonio Najarro 								\n				\n					\n		\n					\n		\n				\n						\n					\n			\n						\n				\n							\n			\n		\n						\n				\n					\n		\n					\n		\n				\n						\n					\n			\n						\n				\n									\n					\n						\n						\n							\n									Comprar entradas
URL:https://teatropalaciovaldes.es/evento/los-dos-hidalgos-de-verona-2/
CATEGORIES:Estreno Absoluto,Teatro
ATTACH;FMTTYPE=image/jpeg:https://teatropalaciovaldes.es/wp-content/uploads/2024/11/‘LOS-DOS-HIDALGOS-DE-VERONA.jpg
END:VEVENT
BEGIN:VEVENT
DTSTART;TZID=Europe/Madrid:20250404T200000
DTEND;TZID=Europe/Madrid:20250404T200000
DTSTAMP:20260425T141235
CREATED:20250310T112721Z
LAST-MODIFIED:20250410T095849Z
UID:6662-1743796800-1743796800@teatropalaciovaldes.es
SUMMARY:EL MAR. VISIÓN DE UNOS NIÑOS QUE NO LO HAN VISTO NUNCA
DESCRIPTION:Ballet en cinco cuadros sobre poemas de Federico García LorcaIdea\, dirección y coreografía: Antonio NajarroComposición musical: José Luis MontónDramaturgia: Alberto ConejeroCuerpo de baile y músicos de la Compañía Antonio Najarro 								\n				\n					\n		\n					\n		\n				\n						\n					\n			\n						\n				\n							\n			\n		\n						\n				\n					\n		\n					\n		\n				\n						\n					\n			\n						\n				\n									\n					\n						\n						\n							\n									Comprar entradas
URL:https://teatropalaciovaldes.es/evento/el-mar-vision-de-unos-ninos-que-no-lo-han-visto-nunca/
CATEGORIES:Programación platea,Teatro
ATTACH;FMTTYPE=image/jpeg:https://teatropalaciovaldes.es/wp-content/uploads/2025/03/Antoni-Benaiges-maestro-de-un-pequeno-pueblo-de-Burgos-promete-a-sus-alumnos-llevarlos-a-ver-el-mar-que-ninguno-conoce.-Pero-es-1936-y-la-promesa-no-podra-cumplirse.jpg
END:VEVENT
BEGIN:VEVENT
DTSTART;TZID=Europe/Madrid:20250409T200000
DTEND;TZID=Europe/Madrid:20250409T200000
DTSTAMP:20260425T141235
CREATED:20250310T112721Z
LAST-MODIFIED:20250324T115203Z
UID:6695-1744228800-1744228800@teatropalaciovaldes.es
SUMMARY:LARREAL. COMPAÑÍA DEL REAL CONSERVATORIO PROFESIONAL DE DANZA DE MADRID ‘MARIEMMA’
DESCRIPTION:Ballet en cinco cuadros sobre poemas de Federico García LorcaIdea\, dirección y coreografía: Antonio NajarroComposición musical: José Luis MontónDramaturgia: Alberto ConejeroCuerpo de baile y músicos de la Compañía Antonio Najarro 								\n				\n					\n		\n					\n		\n				\n						\n					\n			\n						\n				\n							\n			\n		\n						\n				\n					\n		\n					\n		\n				\n						\n					\n			\n						\n				\n									\n					\n						\n						\n							\n									Comprar entradas
URL:https://teatropalaciovaldes.es/evento/larreal-compania-del-real-conservatorio-profesional-de-danza-de-madrid-mariemma/
CATEGORIES:Danza
ATTACH;FMTTYPE=image/jpeg:https://teatropalaciovaldes.es/wp-content/uploads/2025/03/lareal.jpg
END:VEVENT
BEGIN:VEVENT
DTSTART;TZID=Europe/Madrid:20250425T203000
DTEND;TZID=Europe/Madrid:20250425T203000
DTSTAMP:20260425T141235
CREATED:20250302T163756Z
LAST-MODIFIED:20250305T111644Z
UID:6639-1745613000-1745613000@teatropalaciovaldes.es
SUMMARY:KINKY BOOTS EL MUSICAL
DESCRIPTION:Ballet en cinco cuadros sobre poemas de Federico García LorcaIdea\, dirección y coreografía: Antonio NajarroComposición musical: José Luis MontónDramaturgia: Alberto ConejeroCuerpo de baile y músicos de la Compañía Antonio Najarro 								\n				\n					\n		\n					\n		\n				\n						\n					\n			\n						\n				\n							\n			\n		\n						\n				\n					\n		\n					\n		\n				\n						\n					\n			\n						\n				\n									\n					\n						\n						\n							\n									Comprar entradas
URL:https://teatropalaciovaldes.es/evento/kinky-boots-el-musical/
CATEGORIES:Musical
ATTACH;FMTTYPE=image/jpeg:https://teatropalaciovaldes.es/wp-content/uploads/2025/03/kinki.jpg
END:VEVENT
BEGIN:VEVENT
DTSTART;TZID=Europe/Madrid:20250426T170000
DTEND;TZID=Europe/Madrid:20250426T170000
DTSTAMP:20260425T141235
CREATED:20250305T111853Z
LAST-MODIFIED:20250305T111853Z
UID:6657-1745686800-1745686800@teatropalaciovaldes.es
SUMMARY:KINKY BOOTS EL MUSICAL
DESCRIPTION:Ballet en cinco cuadros sobre poemas de Federico García LorcaIdea\, dirección y coreografía: Antonio NajarroComposición musical: José Luis MontónDramaturgia: Alberto ConejeroCuerpo de baile y músicos de la Compañía Antonio Najarro 								\n				\n					\n		\n					\n		\n				\n						\n					\n			\n						\n				\n							\n			\n		\n						\n				\n					\n		\n					\n		\n				\n						\n					\n			\n						\n				\n									\n					\n						\n						\n							\n									Comprar entradas
URL:https://teatropalaciovaldes.es/evento/kinky-boots-el-musical-3/
CATEGORIES:Musical
ATTACH;FMTTYPE=image/jpeg:https://teatropalaciovaldes.es/wp-content/uploads/2025/03/kinki.jpg
END:VEVENT
BEGIN:VEVENT
DTSTART;TZID=Europe/Madrid:20250426T203000
DTEND;TZID=Europe/Madrid:20250426T203000
DTSTAMP:20260425T141235
CREATED:20250302T164825Z
LAST-MODIFIED:20250305T111630Z
UID:6649-1745699400-1745699400@teatropalaciovaldes.es
SUMMARY:KINKY BOOTS EL MUSICAL
DESCRIPTION:Ballet en cinco cuadros sobre poemas de Federico García LorcaIdea\, dirección y coreografía: Antonio NajarroComposición musical: José Luis MontónDramaturgia: Alberto ConejeroCuerpo de baile y músicos de la Compañía Antonio Najarro 								\n				\n					\n		\n					\n		\n				\n						\n					\n			\n						\n				\n							\n			\n		\n						\n				\n					\n		\n					\n		\n				\n						\n					\n			\n						\n				\n									\n					\n						\n						\n							\n									Comprar entradas
URL:https://teatropalaciovaldes.es/evento/kinky-boots-el-musical-2/
CATEGORIES:Musical
ATTACH;FMTTYPE=image/jpeg:https://teatropalaciovaldes.es/wp-content/uploads/2025/03/kinki.jpg
END:VEVENT
BEGIN:VEVENT
DTSTART;TZID=Europe/Madrid:20250508T200000
DTEND;TZID=Europe/Madrid:20250508T200000
DTSTAMP:20260425T141235
CREATED:20250310T112407Z
LAST-MODIFIED:20250324T115216Z
UID:6667-1746734400-1746734400@teatropalaciovaldes.es
SUMMARY:BLAUBEEREN
DESCRIPTION:Ballet en cinco cuadros sobre poemas de Federico García LorcaIdea\, dirección y coreografía: Antonio NajarroComposición musical: José Luis MontónDramaturgia: Alberto ConejeroCuerpo de baile y músicos de la Compañía Antonio Najarro 								\n				\n					\n		\n					\n		\n				\n						\n					\n			\n						\n				\n							\n			\n		\n						\n				\n					\n		\n					\n		\n				\n						\n					\n			\n						\n				\n									\n					\n						\n						\n							\n									Comprar entradas
URL:https://teatropalaciovaldes.es/evento/blaubeeren-2/
CATEGORIES:Estreno Absoluto,Teatro
ATTACH;FMTTYPE=image/jpeg:https://teatropalaciovaldes.es/wp-content/uploads/2025/03/BLAUBEEREN.jpg
END:VEVENT
BEGIN:VEVENT
DTSTART;TZID=Europe/Madrid:20250509T200000
DTEND;TZID=Europe/Madrid:20250509T200000
DTSTAMP:20260425T141235
CREATED:20250310T112407Z
LAST-MODIFIED:20250324T115252Z
UID:6673-1746820800-1746820800@teatropalaciovaldes.es
SUMMARY:BLAUBEEREN
DESCRIPTION:Ballet en cinco cuadros sobre poemas de Federico García LorcaIdea\, dirección y coreografía: Antonio NajarroComposición musical: José Luis MontónDramaturgia: Alberto ConejeroCuerpo de baile y músicos de la Compañía Antonio Najarro 								\n				\n					\n		\n					\n		\n				\n						\n					\n			\n						\n				\n							\n			\n		\n						\n				\n					\n		\n					\n		\n				\n						\n					\n			\n						\n				\n									\n					\n						\n						\n							\n									Comprar entradas
URL:https://teatropalaciovaldes.es/evento/blaubeeren/
CATEGORIES:Estreno Absoluto,Teatro
ATTACH;FMTTYPE=image/jpeg:https://teatropalaciovaldes.es/wp-content/uploads/2025/03/BLAUBEEREN.jpg
END:VEVENT
BEGIN:VEVENT
DTSTART;TZID=Europe/Madrid:20250511T190000
DTEND;TZID=Europe/Madrid:20250511T190000
DTSTAMP:20260425T141235
CREATED:20250310T112407Z
LAST-MODIFIED:20250409T111032Z
UID:6702-1746990000-1746990000@teatropalaciovaldes.es
SUMMARY:COMPAÑÍA ANTONIO NAJARRO. ‘QUERENCIA’
DESCRIPTION:Ballet en cinco cuadros sobre poemas de Federico García LorcaIdea\, dirección y coreografía: Antonio NajarroComposición musical: José Luis MontónDramaturgia: Alberto ConejeroCuerpo de baile y músicos de la Compañía Antonio Najarro 								\n				\n					\n		\n					\n		\n				\n						\n					\n			\n						\n				\n							\n			\n		\n						\n				\n					\n		\n					\n		\n				\n						\n					\n			\n						\n				\n									\n					\n						\n						\n							\n									Comprar entradas
URL:https://teatropalaciovaldes.es/evento/compania-antonio-najarro-querencia/
CATEGORIES:Danza,Programación platea
ATTACH;FMTTYPE=image/jpeg:https://teatropalaciovaldes.es/wp-content/uploads/2025/03/querencia.jpg
END:VEVENT
BEGIN:VEVENT
DTSTART;TZID=Europe/Madrid:20250604T200000
DTEND;TZID=Europe/Madrid:20250604T200000
DTSTAMP:20260425T141236
CREATED:20250310T112306Z
LAST-MODIFIED:20250512T093917Z
UID:6685-1749067200-1749067200@teatropalaciovaldes.es
SUMMARY:SAUDADE
DESCRIPTION:Ballet en cinco cuadros sobre poemas de Federico García LorcaIdea\, dirección y coreografía: Antonio NajarroComposición musical: José Luis MontónDramaturgia: Alberto ConejeroCuerpo de baile y músicos de la Compañía Antonio Najarro 								\n				\n					\n		\n					\n		\n				\n						\n					\n			\n						\n				\n							\n			\n		\n						\n				\n					\n		\n					\n		\n				\n						\n					\n			\n						\n				\n									\n					\n						\n						\n							\n									Comprar entradas
URL:https://teatropalaciovaldes.es/evento/saudade/
CATEGORIES:Teatro
ATTACH;FMTTYPE=image/jpeg:https://teatropalaciovaldes.es/wp-content/uploads/2025/03/saudade.jpg
END:VEVENT
BEGIN:VEVENT
DTSTART;TZID=Europe/Madrid:20250607T200000
DTEND;TZID=Europe/Madrid:20250607T200000
DTSTAMP:20260425T141236
CREATED:20250512T093534Z
LAST-MODIFIED:20250512T093938Z
UID:6764-1749326400-1749326400@teatropalaciovaldes.es
SUMMARY:DAKRIS\, NADA ES LO QUE PARECE
DESCRIPTION:Ballet en cinco cuadros sobre poemas de Federico García LorcaIdea\, dirección y coreografía: Antonio NajarroComposición musical: José Luis MontónDramaturgia: Alberto ConejeroCuerpo de baile y músicos de la Compañía Antonio Najarro 								\n				\n					\n		\n					\n		\n				\n						\n					\n			\n						\n				\n							\n			\n		\n						\n				\n					\n		\n					\n		\n				\n						\n					\n			\n						\n				\n									\n					\n						\n						\n							\n									Comprar entradas
URL:https://teatropalaciovaldes.es/evento/dakris-nada-es-lo-que-parece/
CATEGORIES:En familia
ATTACH;FMTTYPE=image/jpeg:https://teatropalaciovaldes.es/wp-content/uploads/2025/05/DAKRIS.jpg
END:VEVENT
BEGIN:VEVENT
DTSTART;TZID=Europe/Madrid:20250618T200000
DTEND;TZID=Europe/Madrid:20250618T200000
DTSTAMP:20260425T141236
CREATED:20250310T112506Z
LAST-MODIFIED:20250512T093959Z
UID:6690-1750276800-1750276800@teatropalaciovaldes.es
SUMMARY:HAMLET
DESCRIPTION:Ballet en cinco cuadros sobre poemas de Federico García LorcaIdea\, dirección y coreografía: Antonio NajarroComposición musical: José Luis MontónDramaturgia: Alberto ConejeroCuerpo de baile y músicos de la Compañía Antonio Najarro 								\n				\n					\n		\n					\n		\n				\n						\n					\n			\n						\n				\n							\n			\n		\n						\n				\n					\n		\n					\n		\n				\n						\n					\n			\n						\n				\n									\n					\n						\n						\n							\n									Comprar entradas
URL:https://teatropalaciovaldes.es/evento/hamlet/
CATEGORIES:Teatro
ATTACH;FMTTYPE=image/jpeg:https://teatropalaciovaldes.es/wp-content/uploads/2025/03/hamlet.jpg
END:VEVENT
BEGIN:VEVENT
DTSTART;TZID=Europe/Madrid:20250620T200000
DTEND;TZID=Europe/Madrid:20250620T200000
DTSTAMP:20260425T141236
CREATED:20250310T112506Z
LAST-MODIFIED:20250512T094017Z
UID:6674-1750449600-1750449600@teatropalaciovaldes.es
SUMMARY:LOS BRUTOS
DESCRIPTION:Ballet en cinco cuadros sobre poemas de Federico García LorcaIdea\, dirección y coreografía: Antonio NajarroComposición musical: José Luis MontónDramaturgia: Alberto ConejeroCuerpo de baile y músicos de la Compañía Antonio Najarro 								\n				\n					\n		\n					\n		\n				\n						\n					\n			\n						\n				\n							\n			\n		\n						\n				\n					\n		\n					\n		\n				\n						\n					\n			\n						\n				\n									\n					\n						\n						\n							\n									Comprar entradas
URL:https://teatropalaciovaldes.es/evento/los-brutos/
CATEGORIES:Teatro
ATTACH;FMTTYPE=image/jpeg:https://teatropalaciovaldes.es/wp-content/uploads/2025/03/los-brutos.jpg
END:VEVENT
BEGIN:VEVENT
DTSTART;TZID=Europe/Madrid:20250627T200000
DTEND;TZID=Europe/Madrid:20250627T200000
DTSTAMP:20260425T141236
CREATED:20250310T112506Z
LAST-MODIFIED:20250512T094032Z
UID:6680-1751054400-1751054400@teatropalaciovaldes.es
SUMMARY:LA LAZARILLA
DESCRIPTION:Ballet en cinco cuadros sobre poemas de Federico García LorcaIdea\, dirección y coreografía: Antonio NajarroComposición musical: José Luis MontónDramaturgia: Alberto ConejeroCuerpo de baile y músicos de la Compañía Antonio Najarro 								\n				\n					\n		\n					\n		\n				\n						\n					\n			\n						\n				\n							\n			\n		\n						\n				\n					\n		\n					\n		\n				\n						\n					\n			\n						\n				\n									\n					\n						\n						\n							\n									Comprar entradas
URL:https://teatropalaciovaldes.es/evento/la-lazarilla/
CATEGORIES:Estreno Absoluto,Teatro
ATTACH;FMTTYPE=image/jpeg:https://teatropalaciovaldes.es/wp-content/uploads/2025/03/la-lazarilla.jpg
END:VEVENT
BEGIN:VEVENT
DTSTART;TZID=Europe/Madrid:20250801T200000
DTEND;TZID=Europe/Madrid:20250801T200000
DTSTAMP:20260425T141236
CREATED:20250619T165255Z
LAST-MODIFIED:20250724T095046Z
UID:6782-1754078400-1754078400@teatropalaciovaldes.es
SUMMARY:AMOR SECRETO HASTA CELOS’
DESCRIPTION:Ballet en cinco cuadros sobre poemas de Federico García LorcaIdea\, dirección y coreografía: Antonio NajarroComposición musical: José Luis MontónDramaturgia: Alberto ConejeroCuerpo de baile y músicos de la Compañía Antonio Najarro 								\n				\n					\n		\n					\n		\n				\n						\n					\n			\n						\n				\n							\n			\n		\n						\n				\n					\n		\n					\n		\n				\n						\n					\n			\n						\n				\n									\n					\n						\n						\n							\n									Comprar entradas
URL:https://teatropalaciovaldes.es/evento/amor-secreto-hasta-celos/
CATEGORIES:Teatro
ATTACH;FMTTYPE=image/jpeg:https://teatropalaciovaldes.es/wp-content/uploads/2025/06/amor-secreto-hasta-celos.jpg
END:VEVENT
BEGIN:VEVENT
DTSTART;TZID=Europe/Madrid:20250802T200000
DTEND;TZID=Europe/Madrid:20250802T200000
DTSTAMP:20260425T141236
CREATED:20250619T165705Z
LAST-MODIFIED:20250619T203428Z
UID:6788-1754164800-1754164800@teatropalaciovaldes.es
SUMMARY:DON GIL DE LAS CALZAS VERDES
DESCRIPTION:Ballet en cinco cuadros sobre poemas de Federico García LorcaIdea\, dirección y coreografía: Antonio NajarroComposición musical: José Luis MontónDramaturgia: Alberto ConejeroCuerpo de baile y músicos de la Compañía Antonio Najarro 								\n				\n					\n		\n					\n		\n				\n						\n					\n			\n						\n				\n							\n			\n		\n						\n				\n					\n		\n					\n		\n				\n						\n					\n			\n						\n				\n									\n					\n						\n						\n							\n									Comprar entradas
URL:https://teatropalaciovaldes.es/evento/don-gil-de-las-calzas-verdes/
CATEGORIES:Teatro
ATTACH;FMTTYPE=image/jpeg:https://teatropalaciovaldes.es/wp-content/uploads/2025/06/don-gil-02jpg.jpg
END:VEVENT
BEGIN:VEVENT
DTSTART;TZID=Europe/Madrid:20250806T200000
DTEND;TZID=Europe/Madrid:20250806T200000
DTSTAMP:20260425T141236
CREATED:20250619T170421Z
LAST-MODIFIED:20250619T203504Z
UID:6794-1754510400-1754510400@teatropalaciovaldes.es
SUMMARY:LAS CORTES DE LA MUERTE
DESCRIPTION:Ballet en cinco cuadros sobre poemas de Federico García LorcaIdea\, dirección y coreografía: Antonio NajarroComposición musical: José Luis MontónDramaturgia: Alberto ConejeroCuerpo de baile y músicos de la Compañía Antonio Najarro 								\n				\n					\n		\n					\n		\n				\n						\n					\n			\n						\n				\n							\n			\n		\n						\n				\n					\n		\n					\n		\n				\n						\n					\n			\n						\n				\n									\n					\n						\n						\n							\n									Comprar entradas
URL:https://teatropalaciovaldes.es/evento/las-cortes-de-la-muerte/
CATEGORIES:Teatro
ATTACH;FMTTYPE=image/jpeg:https://teatropalaciovaldes.es/wp-content/uploads/2025/06/cortes.jpg
END:VEVENT
BEGIN:VEVENT
DTSTART;TZID=Europe/Madrid:20250926T200000
DTEND;TZID=Europe/Madrid:20250926T200000
DTSTAMP:20260425T141236
CREATED:20250907T180750Z
LAST-MODIFIED:20250907T181019Z
UID:6945-1758916800-1758916800@teatropalaciovaldes.es
SUMMARY:Nueva York en un Poeta
DESCRIPTION:Ballet en cinco cuadros sobre poemas de Federico García LorcaIdea\, dirección y coreografía: Antonio NajarroComposición musical: José Luis MontónDramaturgia: Alberto ConejeroCuerpo de baile y músicos de la Compañía Antonio Najarro 								\n				\n					\n		\n					\n		\n				\n						\n					\n			\n						\n				\n							\n			\n		\n						\n				\n					\n		\n					\n		\n				\n						\n					\n			\n						\n				\n									\n					\n						\n						\n							\n									Comprar entradas
URL:https://teatropalaciovaldes.es/evento/nueva-york-en-un-poeta/
CATEGORIES:Música,Poesía,Teatro
ATTACH;FMTTYPE=image/jpeg:https://teatropalaciovaldes.es/wp-content/uploads/2025/09/Nueva-York-en-un-Poeta-1.jpg
END:VEVENT
BEGIN:VEVENT
DTSTART;TZID=Europe/Madrid:20251003T200000
DTEND;TZID=Europe/Madrid:20251003T200000
DTSTAMP:20260425T141236
CREATED:20250703T121114Z
LAST-MODIFIED:20250705T173103Z
UID:6823-1759521600-1759521600@teatropalaciovaldes.es
SUMMARY:TARZÁN\, EL MUSICAL.
DESCRIPTION:Ballet en cinco cuadros sobre poemas de Federico García LorcaIdea\, dirección y coreografía: Antonio NajarroComposición musical: José Luis MontónDramaturgia: Alberto ConejeroCuerpo de baile y músicos de la Compañía Antonio Najarro 								\n				\n					\n		\n					\n		\n				\n						\n					\n			\n						\n				\n							\n			\n		\n						\n				\n					\n		\n					\n		\n				\n						\n					\n			\n						\n				\n									\n					\n						\n						\n							\n									Comprar entradas
URL:https://teatropalaciovaldes.es/evento/tarzan-el-musical/
CATEGORIES:Musical
ATTACH;FMTTYPE=image/jpeg:https://teatropalaciovaldes.es/wp-content/uploads/2025/07/TARZAN-16.9-AVILES.jpg
END:VEVENT
BEGIN:VEVENT
DTSTART;TZID=Europe/Madrid:20251004T170000
DTEND;TZID=Europe/Madrid:20251004T170000
DTSTAMP:20260425T141236
CREATED:20250703T121401Z
LAST-MODIFIED:20250705T172916Z
UID:6828-1759597200-1759597200@teatropalaciovaldes.es
SUMMARY:TARZÁN\, EL MUSICAL.
DESCRIPTION:Ballet en cinco cuadros sobre poemas de Federico García LorcaIdea\, dirección y coreografía: Antonio NajarroComposición musical: José Luis MontónDramaturgia: Alberto ConejeroCuerpo de baile y músicos de la Compañía Antonio Najarro 								\n				\n					\n		\n					\n		\n				\n						\n					\n			\n						\n				\n							\n			\n		\n						\n				\n					\n		\n					\n		\n				\n						\n					\n			\n						\n				\n									\n					\n						\n						\n							\n									Comprar entradas
URL:https://teatropalaciovaldes.es/evento/tarzan-el-musical-2/
CATEGORIES:Musical
ATTACH;FMTTYPE=image/jpeg:https://teatropalaciovaldes.es/wp-content/uploads/2025/07/TARZAN-16.9-AVILES.jpg
END:VEVENT
BEGIN:VEVENT
DTSTART;TZID=Europe/Madrid:20251004T203000
DTEND;TZID=Europe/Madrid:20251004T203000
DTSTAMP:20260425T141236
CREATED:20250703T121439Z
LAST-MODIFIED:20250705T173035Z
UID:6830-1759609800-1759609800@teatropalaciovaldes.es
SUMMARY:TARZÁN\, EL MUSICAL.
DESCRIPTION:Ballet en cinco cuadros sobre poemas de Federico García LorcaIdea\, dirección y coreografía: Antonio NajarroComposición musical: José Luis MontónDramaturgia: Alberto ConejeroCuerpo de baile y músicos de la Compañía Antonio Najarro 								\n				\n					\n		\n					\n		\n				\n						\n					\n			\n						\n				\n							\n			\n		\n						\n				\n					\n		\n					\n		\n				\n						\n					\n			\n						\n				\n									\n					\n						\n						\n							\n									Comprar entradas
URL:https://teatropalaciovaldes.es/evento/tarzan-el-musical-3/
CATEGORIES:Musical
ATTACH;FMTTYPE=image/jpeg:https://teatropalaciovaldes.es/wp-content/uploads/2025/07/TARZAN-16.9-AVILES.jpg
END:VEVENT
BEGIN:VEVENT
DTSTART;TZID=Europe/Madrid:20251008T200000
DTEND;TZID=Europe/Madrid:20251008T200000
DTSTAMP:20260425T141236
CREATED:20250729T100905Z
LAST-MODIFIED:20250920T085210Z
UID:6859-1759953600-1759953600@teatropalaciovaldes.es
SUMMARY:ABURRIMIENTO VOCACIONAL
DESCRIPTION:Ballet en cinco cuadros sobre poemas de Federico García LorcaIdea\, dirección y coreografía: Antonio NajarroComposición musical: José Luis MontónDramaturgia: Alberto ConejeroCuerpo de baile y músicos de la Compañía Antonio Najarro 								\n				\n					\n		\n					\n		\n				\n						\n					\n			\n						\n				\n							\n			\n		\n						\n				\n					\n		\n					\n		\n				\n						\n					\n			\n						\n				\n									\n					\n						\n						\n							\n									Comprar entradas
URL:https://teatropalaciovaldes.es/evento/aburrimiento-vocacional/
CATEGORIES:Teatro
ATTACH;FMTTYPE=image/jpeg:https://teatropalaciovaldes.es/wp-content/uploads/2025/07/aburrimiento.jpg
END:VEVENT
BEGIN:VEVENT
DTSTART;TZID=Europe/Madrid:20251017T200000
DTEND;TZID=Europe/Madrid:20251017T200000
DTSTAMP:20260425T141236
CREATED:20250729T101545Z
LAST-MODIFIED:20251014T144605Z
UID:6865-1760731200-1760731200@teatropalaciovaldes.es
SUMMARY:YO SÓLO QUIERO IRME A FRANCIA
DESCRIPTION:Ballet en cinco cuadros sobre poemas de Federico García LorcaIdea\, dirección y coreografía: Antonio NajarroComposición musical: José Luis MontónDramaturgia: Alberto ConejeroCuerpo de baile y músicos de la Compañía Antonio Najarro 								\n				\n					\n		\n					\n		\n				\n						\n					\n			\n						\n				\n							\n			\n		\n						\n				\n					\n		\n					\n		\n				\n						\n					\n			\n						\n				\n									\n					\n						\n						\n							\n									Comprar entradas
URL:https://teatropalaciovaldes.es/evento/yo-solo-quiero-irme-a-francia/
CATEGORIES:Teatro
ATTACH;FMTTYPE=image/jpeg:https://teatropalaciovaldes.es/wp-content/uploads/2025/07/yo-solo-quiero-irme-a-Francia.jpg
END:VEVENT
BEGIN:VEVENT
DTSTART;TZID=Europe/Madrid:20251018T200000
DTEND;TZID=Europe/Madrid:20251018T200000
DTSTAMP:20260425T141236
CREATED:20250729T101555Z
LAST-MODIFIED:20251014T144621Z
UID:6870-1760817600-1760817600@teatropalaciovaldes.es
SUMMARY:YO SÓLO QUIERO IRME A FRANCIA
DESCRIPTION:Ballet en cinco cuadros sobre poemas de Federico García LorcaIdea\, dirección y coreografía: Antonio NajarroComposición musical: José Luis MontónDramaturgia: Alberto ConejeroCuerpo de baile y músicos de la Compañía Antonio Najarro 								\n				\n					\n		\n					\n		\n				\n						\n					\n			\n						\n				\n							\n			\n		\n						\n				\n					\n		\n					\n		\n				\n						\n					\n			\n						\n				\n									\n					\n						\n						\n							\n									Comprar entradas
URL:https://teatropalaciovaldes.es/evento/yo-solo-quiero-irme-a-francia-2/
CATEGORIES:Teatro
ATTACH;FMTTYPE=image/jpeg:https://teatropalaciovaldes.es/wp-content/uploads/2025/07/yo-solo-quiero-irme-a-Francia.jpg
END:VEVENT
END:VCALENDAR