BEGIN:VCALENDAR
VERSION:2.0
PRODID:-//Teatro Palacio Valdés - Avilés - ECPv6.13.2.1//NONSGML v1.0//EN
CALSCALE:GREGORIAN
METHOD:PUBLISH
X-ORIGINAL-URL:https://teatropalaciovaldes.es
X-WR-CALDESC:Eventos para Teatro Palacio Valdés - Avilés
REFRESH-INTERVAL;VALUE=DURATION:PT1H
X-Robots-Tag:noindex
X-PUBLISHED-TTL:PT1H
BEGIN:VTIMEZONE
TZID:Europe/Madrid
BEGIN:DAYLIGHT
TZOFFSETFROM:+0100
TZOFFSETTO:+0200
TZNAME:CEST
DTSTART:20260329T010000
END:DAYLIGHT
BEGIN:STANDARD
TZOFFSETFROM:+0200
TZOFFSETTO:+0100
TZNAME:CET
DTSTART:20261025T010000
END:STANDARD
END:VTIMEZONE
BEGIN:VEVENT
DTSTART;TZID=Europe/Madrid:20260509T200000
DTEND;TZID=Europe/Madrid:20260509T200000
DTSTAMP:20260424T184245
CREATED:20260303T104215Z
LAST-MODIFIED:20260316T083440Z
UID:7238-1778356800-1778356800@teatropalaciovaldes.es
SUMMARY:COMPAÑÍA ANTONIO NAJARRO ‘ROMANCE SONÁMBULO’
DESCRIPTION:Ballet en cinco cuadros sobre poemas de Federico García LorcaIdea\, dirección y coreografía: Antonio NajarroComposición musical: José Luis MontónDramaturgia: Alberto ConejeroCuerpo de baile y músicos de la Compañía Antonio Najarro 								\n				\n					\n		\n					\n		\n				\n						\n					\n			\n						\n				\n							\n			\n		\n						\n				\n					\n		\n					\n		\n				\n						\n					\n			\n						\n				\n									\n					\n						\n						\n							\n									Comprar entradas
URL:https://teatropalaciovaldes.es/evento/compania-antonio-najarro-romance-sonambulo/
CATEGORIES:Danza
ATTACH;FMTTYPE=image/jpeg:https://teatropalaciovaldes.es/wp-content/uploads/2026/03/romance.jpg
END:VEVENT
BEGIN:VEVENT
DTSTART;TZID=Europe/Madrid:20260524T190000
DTEND;TZID=Europe/Madrid:20260524T190000
DTSTAMP:20260424T184245
CREATED:20260220T091936Z
LAST-MODIFIED:20260306T102508Z
UID:7173-1779649200-1779649200@teatropalaciovaldes.es
SUMMARY:SÍLVIA PÉREZ CRUZ
DESCRIPTION:Ballet en cinco cuadros sobre poemas de Federico García LorcaIdea\, dirección y coreografía: Antonio NajarroComposición musical: José Luis MontónDramaturgia: Alberto ConejeroCuerpo de baile y músicos de la Compañía Antonio Najarro 								\n				\n					\n		\n					\n		\n				\n						\n					\n			\n						\n				\n							\n			\n		\n						\n				\n					\n		\n					\n		\n				\n						\n					\n			\n						\n				\n									\n					\n						\n						\n							\n									Comprar entradas
URL:https://teatropalaciovaldes.es/evento/silvia-perez-cruz/
CATEGORIES:Música
ATTACH;FMTTYPE=image/png:https://teatropalaciovaldes.es/wp-content/uploads/2026/02/Silvia-Perez-Cruz-1080x566-1.png
END:VEVENT
BEGIN:VEVENT
DTSTART;TZID=Europe/Madrid:20260529T200000
DTEND;TZID=Europe/Madrid:20260529T200000
DTSTAMP:20260424T184245
CREATED:20260303T103022Z
LAST-MODIFIED:20260316T083536Z
UID:7214-1780084800-1780084800@teatropalaciovaldes.es
SUMMARY:LAS AMARGAS LÁGRIMAS DE PETRA VON KANT
DESCRIPTION:Ballet en cinco cuadros sobre poemas de Federico García LorcaIdea\, dirección y coreografía: Antonio NajarroComposición musical: José Luis MontónDramaturgia: Alberto ConejeroCuerpo de baile y músicos de la Compañía Antonio Najarro 								\n				\n					\n		\n					\n		\n				\n						\n					\n			\n						\n				\n							\n			\n		\n						\n				\n					\n		\n					\n		\n				\n						\n					\n			\n						\n				\n									\n					\n						\n						\n							\n									Comprar entradas
URL:https://teatropalaciovaldes.es/evento/las-amargas-lagrimas-de-petra-von-kant/
CATEGORIES:Teatro
ATTACH;FMTTYPE=image/jpeg:https://teatropalaciovaldes.es/wp-content/uploads/2026/03/las-amargas-lagrimas.jpg
END:VEVENT
BEGIN:VEVENT
DTSTART;TZID=Europe/Madrid:20260530T200000
DTEND;TZID=Europe/Madrid:20260530T200000
DTSTAMP:20260424T184245
CREATED:20260303T103154Z
LAST-MODIFIED:20260316T083601Z
UID:7220-1780171200-1780171200@teatropalaciovaldes.es
SUMMARY:LAS AMARGAS LÁGRIMAS DE PETRA VON KANT
DESCRIPTION:Ballet en cinco cuadros sobre poemas de Federico García LorcaIdea\, dirección y coreografía: Antonio NajarroComposición musical: José Luis MontónDramaturgia: Alberto ConejeroCuerpo de baile y músicos de la Compañía Antonio Najarro 								\n				\n					\n		\n					\n		\n				\n						\n					\n			\n						\n				\n							\n			\n		\n						\n				\n					\n		\n					\n		\n				\n						\n					\n			\n						\n				\n									\n					\n						\n						\n							\n									Comprar entradas
URL:https://teatropalaciovaldes.es/evento/las-amargas-lagrimas-de-petra-von-kant-2/
CATEGORIES:Teatro
ATTACH;FMTTYPE=image/jpeg:https://teatropalaciovaldes.es/wp-content/uploads/2026/03/las-amargas-lagrimas.jpg
END:VEVENT
BEGIN:VEVENT
DTSTART;TZID=Europe/Madrid:20260604T200000
DTEND;TZID=Europe/Madrid:20260604T200000
DTSTAMP:20260424T184245
CREATED:20260303T102953Z
LAST-MODIFIED:20260316T083624Z
UID:7233-1780603200-1780603200@teatropalaciovaldes.es
SUMMARY:INTELIGENCIA ARTIFICIAL (AY)
DESCRIPTION:Ballet en cinco cuadros sobre poemas de Federico García LorcaIdea\, dirección y coreografía: Antonio NajarroComposición musical: José Luis MontónDramaturgia: Alberto ConejeroCuerpo de baile y músicos de la Compañía Antonio Najarro 								\n				\n					\n		\n					\n		\n				\n						\n					\n			\n						\n				\n							\n			\n		\n						\n				\n					\n		\n					\n		\n				\n						\n					\n			\n						\n				\n									\n					\n						\n						\n							\n									Comprar entradas
URL:https://teatropalaciovaldes.es/evento/inteligencia-artificial-ay/
CATEGORIES:Teatro
ATTACH;FMTTYPE=image/jpeg:https://teatropalaciovaldes.es/wp-content/uploads/2026/03/inteligencia-artificial.jpg
END:VEVENT
BEGIN:VEVENT
DTSTART;TZID=Europe/Madrid:20260626T200000
DTEND;TZID=Europe/Madrid:20260626T200000
DTSTAMP:20260424T184245
CREATED:20260303T103328Z
LAST-MODIFIED:20260316T083645Z
UID:7222-1782504000-1782504000@teatropalaciovaldes.es
SUMMARY:ESENCIA
DESCRIPTION:Ballet en cinco cuadros sobre poemas de Federico García LorcaIdea\, dirección y coreografía: Antonio NajarroComposición musical: José Luis MontónDramaturgia: Alberto ConejeroCuerpo de baile y músicos de la Compañía Antonio Najarro 								\n				\n					\n		\n					\n		\n				\n						\n					\n			\n						\n				\n							\n			\n		\n						\n				\n					\n		\n					\n		\n				\n						\n					\n			\n						\n				\n									\n					\n						\n						\n							\n									Comprar entradas
URL:https://teatropalaciovaldes.es/evento/esencia/
CATEGORIES:Teatro
ATTACH;FMTTYPE=image/jpeg:https://teatropalaciovaldes.es/wp-content/uploads/2026/03/esencia.jpg
END:VEVENT
END:VCALENDAR