BEGIN:VCALENDAR
VERSION:2.0
PRODID:-//Teatro Palacio Valdés - Avilés - ECPv6.13.2.1//NONSGML v1.0//EN
CALSCALE:GREGORIAN
METHOD:PUBLISH
X-ORIGINAL-URL:https://teatropalaciovaldes.es
X-WR-CALDESC:Eventos para Teatro Palacio Valdés - Avilés
REFRESH-INTERVAL;VALUE=DURATION:PT1H
X-Robots-Tag:noindex
X-PUBLISHED-TTL:PT1H
BEGIN:VTIMEZONE
TZID:Europe/Madrid
BEGIN:DAYLIGHT
TZOFFSETFROM:+0100
TZOFFSETTO:+0200
TZNAME:CEST
DTSTART:20230326T010000
END:DAYLIGHT
BEGIN:STANDARD
TZOFFSETFROM:+0200
TZOFFSETTO:+0100
TZNAME:CET
DTSTART:20231029T010000
END:STANDARD
END:VTIMEZONE
BEGIN:VEVENT
DTSTART;TZID=Europe/Madrid:20231201T201500
DTEND;TZID=Europe/Madrid:20231201T201500
DTSTAMP:20260426T024559
CREATED:20230901T092742Z
LAST-MODIFIED:20230927T160343Z
UID:5241-1701461700-1701461700@teatropalaciovaldes.es
SUMMARY:ROMEO Y JULIETA DESPIERTAN…
DESCRIPTION:Ballet en cinco cuadros sobre poemas de Federico García LorcaIdea\, dirección y coreografía: Antonio NajarroComposición musical: José Luis MontónDramaturgia: Alberto ConejeroCuerpo de baile y músicos de la Compañía Antonio Najarro 								\n				\n					\n		\n					\n		\n				\n						\n					\n			\n						\n				\n							\n			\n		\n						\n				\n					\n		\n					\n		\n				\n						\n					\n			\n						\n				\n									\n					\n						\n						\n							\n									Comprar entradas
URL:https://teatropalaciovaldes.es/evento/romeo-y-julieta-despiertan/
CATEGORIES:Programación platea,Teatro
ATTACH;FMTTYPE=image/jpeg:https://teatropalaciovaldes.es/wp-content/uploads/2023/09/Romeo-y-Julieta-despiertan-LR.jpg
END:VEVENT
BEGIN:VEVENT
DTSTART;TZID=Europe/Madrid:20231215T210000
DTEND;TZID=Europe/Madrid:20231215T210000
DTSTAMP:20260426T024559
CREATED:20231011T180548Z
LAST-MODIFIED:20231130T114526Z
UID:5439-1702674000-1702674000@teatropalaciovaldes.es
SUMMARY:GRAN CIRCO ACROBÁTICO DE CHINA
DESCRIPTION:Ballet en cinco cuadros sobre poemas de Federico García LorcaIdea\, dirección y coreografía: Antonio NajarroComposición musical: José Luis MontónDramaturgia: Alberto ConejeroCuerpo de baile y músicos de la Compañía Antonio Najarro 								\n				\n					\n		\n					\n		\n				\n						\n					\n			\n						\n				\n							\n			\n		\n						\n				\n					\n		\n					\n		\n				\n						\n					\n			\n						\n				\n									\n					\n						\n						\n							\n									Comprar entradas
URL:https://teatropalaciovaldes.es/evento/gran-circo-acrobatico-de-china/
CATEGORIES:En familia
ATTACH;FMTTYPE=image/jpeg:https://teatropalaciovaldes.es/wp-content/uploads/2023/10/circo-chino.jpg
END:VEVENT
BEGIN:VEVENT
DTSTART;TZID=Europe/Madrid:20231216T170000
DTEND;TZID=Europe/Madrid:20231216T170000
DTSTAMP:20260426T024559
CREATED:20231130T114334Z
LAST-MODIFIED:20231130T114444Z
UID:5510-1702746000-1702746000@teatropalaciovaldes.es
SUMMARY:GRAN CIRCO ACROBÁTICO DE CHINA
DESCRIPTION:Ballet en cinco cuadros sobre poemas de Federico García LorcaIdea\, dirección y coreografía: Antonio NajarroComposición musical: José Luis MontónDramaturgia: Alberto ConejeroCuerpo de baile y músicos de la Compañía Antonio Najarro 								\n				\n					\n		\n					\n		\n				\n						\n					\n			\n						\n				\n							\n			\n		\n						\n				\n					\n		\n					\n		\n				\n						\n					\n			\n						\n				\n									\n					\n						\n						\n							\n									Comprar entradas
URL:https://teatropalaciovaldes.es/evento/gran-circo-acrobatico-de-china-3/
CATEGORIES:En familia
ATTACH;FMTTYPE=image/jpeg:https://teatropalaciovaldes.es/wp-content/uploads/2023/10/circo-chino.jpg
END:VEVENT
BEGIN:VEVENT
DTSTART;TZID=Europe/Madrid:20231216T201500
DTEND;TZID=Europe/Madrid:20231216T201500
DTSTAMP:20260426T024559
CREATED:20231011T180842Z
LAST-MODIFIED:20231130T114610Z
UID:5445-1702757700-1702757700@teatropalaciovaldes.es
SUMMARY:GRAN CIRCO ACROBÁTICO DE CHINA
DESCRIPTION:Ballet en cinco cuadros sobre poemas de Federico García LorcaIdea\, dirección y coreografía: Antonio NajarroComposición musical: José Luis MontónDramaturgia: Alberto ConejeroCuerpo de baile y músicos de la Compañía Antonio Najarro 								\n				\n					\n		\n					\n		\n				\n						\n					\n			\n						\n				\n							\n			\n		\n						\n				\n					\n		\n					\n		\n				\n						\n					\n			\n						\n				\n									\n					\n						\n						\n							\n									Comprar entradas
URL:https://teatropalaciovaldes.es/evento/gran-circo-acrobatico-de-china-2/
CATEGORIES:En familia
ATTACH;FMTTYPE=image/jpeg:https://teatropalaciovaldes.es/wp-content/uploads/2023/10/circo-chino.jpg
END:VEVENT
BEGIN:VEVENT
DTSTART;TZID=Europe/Madrid:20231226T183000
DTEND;TZID=Europe/Madrid:20231226T183000
DTSTAMP:20260426T024559
CREATED:20231113T124429Z
LAST-MODIFIED:20231113T165152Z
UID:5454-1703615400-1703615400@teatropalaciovaldes.es
SUMMARY:EL GATO CON BOTAS
DESCRIPTION:Ballet en cinco cuadros sobre poemas de Federico García LorcaIdea\, dirección y coreografía: Antonio NajarroComposición musical: José Luis MontónDramaturgia: Alberto ConejeroCuerpo de baile y músicos de la Compañía Antonio Najarro 								\n				\n					\n		\n					\n		\n				\n						\n					\n			\n						\n				\n							\n			\n		\n						\n				\n					\n		\n					\n		\n				\n						\n					\n			\n						\n				\n									\n					\n						\n						\n							\n									Comprar entradas
URL:https://teatropalaciovaldes.es/evento/el-gato-con-botas/
CATEGORIES:En familia,Música
ATTACH;FMTTYPE=image/jpeg:https://teatropalaciovaldes.es/wp-content/uploads/2023/11/cartel_gato-717x1024-1.jpg
END:VEVENT
BEGIN:VEVENT
DTSTART;TZID=Europe/Madrid:20231227T183000
DTEND;TZID=Europe/Madrid:20231227T183000
DTSTAMP:20260426T024559
CREATED:20231113T125110Z
LAST-MODIFIED:20231113T165138Z
UID:5465-1703701800-1703701800@teatropalaciovaldes.es
SUMMARY:ANDERSEN EL PATITO FEO
DESCRIPTION:Ballet en cinco cuadros sobre poemas de Federico García LorcaIdea\, dirección y coreografía: Antonio NajarroComposición musical: José Luis MontónDramaturgia: Alberto ConejeroCuerpo de baile y músicos de la Compañía Antonio Najarro 								\n				\n					\n		\n					\n		\n				\n						\n					\n			\n						\n				\n							\n			\n		\n						\n				\n					\n		\n					\n		\n				\n						\n					\n			\n						\n				\n									\n					\n						\n						\n							\n									Comprar entradas
URL:https://teatropalaciovaldes.es/evento/andersen-el-patito-feo/
CATEGORIES:En familia,Musical
ATTACH;FMTTYPE=image/jpeg:https://teatropalaciovaldes.es/wp-content/uploads/2023/11/CARTEL_PATITO-1.jpg
END:VEVENT
BEGIN:VEVENT
DTSTART;TZID=Europe/Madrid:20231229T170000
DTEND;TZID=Europe/Madrid:20231229T170000
DTSTAMP:20260426T024559
CREATED:20231113T130225Z
LAST-MODIFIED:20231113T165113Z
UID:5481-1703869200-1703869200@teatropalaciovaldes.es
SUMMARY:BARBIE BOOM\, EL MUSICAL EN ROSA CHICLE
DESCRIPTION:Ballet en cinco cuadros sobre poemas de Federico García LorcaIdea\, dirección y coreografía: Antonio NajarroComposición musical: José Luis MontónDramaturgia: Alberto ConejeroCuerpo de baile y músicos de la Compañía Antonio Najarro 								\n				\n					\n		\n					\n		\n				\n						\n					\n			\n						\n				\n							\n			\n		\n						\n				\n					\n		\n					\n		\n				\n						\n					\n			\n						\n				\n									\n					\n						\n						\n							\n									Comprar entradas
URL:https://teatropalaciovaldes.es/evento/barbie-boom-el-musical-en-rosa-chicle/
CATEGORIES:En familia,Musical
ATTACH;FMTTYPE=image/jpeg:https://teatropalaciovaldes.es/wp-content/uploads/2023/11/BARBIE-BOOM-el-musical-1.jpg
END:VEVENT
BEGIN:VEVENT
DTSTART;TZID=Europe/Madrid:20231229T200000
DTEND;TZID=Europe/Madrid:20231229T200000
DTSTAMP:20260426T024559
CREATED:20231113T131622Z
LAST-MODIFIED:20231113T164948Z
UID:5489-1703880000-1703880000@teatropalaciovaldes.es
SUMMARY:BARBIE BOOM\, EL MUSICAL EN ROSA CHICLE
DESCRIPTION:Ballet en cinco cuadros sobre poemas de Federico García LorcaIdea\, dirección y coreografía: Antonio NajarroComposición musical: José Luis MontónDramaturgia: Alberto ConejeroCuerpo de baile y músicos de la Compañía Antonio Najarro 								\n				\n					\n		\n					\n		\n				\n						\n					\n			\n						\n				\n							\n			\n		\n						\n				\n					\n		\n					\n		\n				\n						\n					\n			\n						\n				\n									\n					\n						\n						\n							\n									Comprar entradas
URL:https://teatropalaciovaldes.es/evento/barbie-boom-el-musical-en-rosa-chicle-2/
CATEGORIES:En familia,Musical
ATTACH;FMTTYPE=image/jpeg:https://teatropalaciovaldes.es/wp-content/uploads/2023/11/BARBIE-BOOM-el-musical-1.jpg
END:VEVENT
END:VCALENDAR