BEGIN:VCALENDAR
VERSION:2.0
PRODID:-//Teatro Palacio Valdés - Avilés - ECPv6.13.2.1//NONSGML v1.0//EN
CALSCALE:GREGORIAN
METHOD:PUBLISH
X-ORIGINAL-URL:https://teatropalaciovaldes.es
X-WR-CALDESC:Eventos para Teatro Palacio Valdés - Avilés
REFRESH-INTERVAL;VALUE=DURATION:PT1H
X-Robots-Tag:noindex
X-PUBLISHED-TTL:PT1H
BEGIN:VTIMEZONE
TZID:Europe/Madrid
BEGIN:DAYLIGHT
TZOFFSETFROM:+0100
TZOFFSETTO:+0200
TZNAME:CEST
DTSTART:20240331T010000
END:DAYLIGHT
BEGIN:STANDARD
TZOFFSETFROM:+0200
TZOFFSETTO:+0100
TZNAME:CET
DTSTART:20241027T010000
END:STANDARD
END:VTIMEZONE
BEGIN:VEVENT
DTSTART;TZID=Europe/Madrid:20240202T201500
DTEND;TZID=Europe/Madrid:20240202T201500
DTSTAMP:20260426T003654
CREATED:20231130T162431Z
LAST-MODIFIED:20231130T162526Z
UID:5530-1706904900-1706904900@teatropalaciovaldes.es
SUMMARY:CIELOS
DESCRIPTION:Ballet en cinco cuadros sobre poemas de Federico García LorcaIdea\, dirección y coreografía: Antonio NajarroComposición musical: José Luis MontónDramaturgia: Alberto ConejeroCuerpo de baile y músicos de la Compañía Antonio Najarro 								\n				\n					\n		\n					\n		\n				\n						\n					\n			\n						\n				\n							\n			\n		\n						\n				\n					\n		\n					\n		\n				\n						\n					\n			\n						\n				\n									\n					\n						\n						\n							\n									Comprar entradas
URL:https://teatropalaciovaldes.es/evento/cielos/
CATEGORIES:Teatro
ATTACH;FMTTYPE=image/jpeg:https://teatropalaciovaldes.es/wp-content/uploads/2023/11/Cielos.jpg
END:VEVENT
BEGIN:VEVENT
DTSTART;TZID=Europe/Madrid:20240216T210000
DTEND;TZID=Europe/Madrid:20240216T210000
DTSTAMP:20260426T003654
CREATED:20240115T183607Z
LAST-MODIFIED:20240115T184326Z
UID:5711-1708117200-1708117200@teatropalaciovaldes.es
SUMMARY:PÛLSAR TO FLOYD
DESCRIPTION:Ballet en cinco cuadros sobre poemas de Federico García LorcaIdea\, dirección y coreografía: Antonio NajarroComposición musical: José Luis MontónDramaturgia: Alberto ConejeroCuerpo de baile y músicos de la Compañía Antonio Najarro 								\n				\n					\n		\n					\n		\n				\n						\n					\n			\n						\n				\n							\n			\n		\n						\n				\n					\n		\n					\n		\n				\n						\n					\n			\n						\n				\n									\n					\n						\n						\n							\n									Comprar entradas
URL:https://teatropalaciovaldes.es/evento/pulsar-to-floyd-2/
CATEGORIES:Música
ATTACH;FMTTYPE=image/jpeg:https://teatropalaciovaldes.es/wp-content/uploads/2024/01/PULSAR-PALACIO-VALDES.jpg
END:VEVENT
BEGIN:VEVENT
DTSTART;TZID=Europe/Madrid:20240223T201500
DTEND;TZID=Europe/Madrid:20240223T201500
DTSTAMP:20260426T003654
CREATED:20231130T162823Z
LAST-MODIFIED:20240206T184129Z
UID:5536-1708719300-1708719300@teatropalaciovaldes.es
SUMMARY:UN DELICADO EQUILIBRIO
DESCRIPTION:Ballet en cinco cuadros sobre poemas de Federico García LorcaIdea\, dirección y coreografía: Antonio NajarroComposición musical: José Luis MontónDramaturgia: Alberto ConejeroCuerpo de baile y músicos de la Compañía Antonio Najarro 								\n				\n					\n		\n					\n		\n				\n						\n					\n			\n						\n				\n							\n			\n		\n						\n				\n					\n		\n					\n		\n				\n						\n					\n			\n						\n				\n									\n					\n						\n						\n							\n									Comprar entradas
URL:https://teatropalaciovaldes.es/evento/un-delicado-equilibrio/
CATEGORIES:Estreno Absoluto,Teatro
ATTACH;FMTTYPE=image/jpeg:https://teatropalaciovaldes.es/wp-content/uploads/2023/11/un-delicado-equilibrio-3840x2160-1-scaled.jpg
END:VEVENT
END:VCALENDAR